Workbook
Name \a: #REF!
Name \a: #REF!
Name \a: #REF!
Name DOLAR: #REF!
Name DOLAR: #REF!
Name DOLAR: #REF!

Sheet Orientações #
B2: ORÇAMENTO PROGRAMA 2017
B3: ORIENTAÇÕES PARA PREENCHIMENTO DAS PLANILHAS
C5: PRAZO DE ENTREGA: 04/11/2016
B6: Prezado Diretor,
B7: Você está recebendo o Arquivo para elaboração do Planejamento Orçamentário Anual, para 2017, abaixo alguma considerações relevante para preenchimento.
B8: Orientações de Preenchimento:
B9: 1. Essa planilha segue o modelo do Relatório de Atividades ( SISATIV ); onde orientamos que se verifique os dados realizados até AGOSTO, para auxiliá-los na elaboração e projeção para 2017.
B10: 2. Inicie o preenchimento pela Pasta Atividade Assistencial ( preenchendo inclusive o nome do Diretor e os dados do Hospital) e na sequencia inserindo os valores correspondentes nas colunas de Janeiro a Dezembro de todos os itens do Grupo 1 (Atividades Assistenciais), prosseguindo da mesma forma na Pasta Quadro de Pessoal , do item 2- Recursos Humanos, até o item 3 - Atividades Sociais.
B11: 3. Os valores do item 4 - Atividades Econômicas, somente poderão ser inseridos na Pasta Receita-Despesa.
B12: ◘ 3.1. No item Receitas Operacionais, NÃO CORRIGIR A RECEITA EM FUNÇÃO DE POSSÍVEIS REAJUSTES.
B13: ◘ 3.2. No item Despesas existem várias linhas que permitem o detalhamento dos principais grupos de despesas. Nestas linhas devem ser inseridos além dos valores, as descrições das especialidades das referidas despesas e não apenas o nome da empresa prestadora do serviço.
B14: ◘ 3.3. Observar que os gastos com pessoal (salários, encargos e benefícios) devem ser abertos em seus principais componentes.
B15: ◘ 3.4. Observar que na pasta Receita-Despesa os itens Ordenados, Férias. 13º, FGTS, PIS e FGTS Rescisório possuem fórmulas, que estão lincadas ao ítem Base Salarial da pasta Quadro de Pessoal (Grupo 2.8) cujo preenchimento é imprescendível.
B16: ◘ 3.5. Na Planilha Receita-Despesa, todas as linhas, DEVEM ser acompanhadas das memórias de cálculo, notas técnicas e justificativas através da coluna `V´ já identificada para esse fim.
B17: ◘ 3.6. O Orçamento deve ser elaborado de forma que o resultado mínimo seja de ZERO, NÃO serão aceitos Orçamentos Negativos.
... B22: 8. Indices Econômicos do ano em curso e projeções para o ano seguinte:
C24: Fonte: Banco Central índices econômicos - Base: Outubro/2016 -
C25: Indicadores | D25: 2016 | E25: 2017 | F25: Aplicação (base anual)
C26: INPC | D26: 0.095 | E26: 0.08 | F26: Reajuste salarial coletivo
C27: IPCA | D27: 0.073 | E27: 0.0504 | F27: Reajuste de alimentação, moradia, transporte
C28: IGP-M | D28: 0.0932 | E28: 0.0546 | F28: Reajuste de materiais, medicamentos e contratos
C29: Preços Administrados | D29: 0.062 | E29: 0.053 | F29: Gás, combustíveis, eletricidade, telefonia fixa
B33: O Orçamento Programa deve ser validado com o Diretor Operacional responsável pela sua unidade, antes de enviar a Controladoria - Sede
B36: Bom trabalho!
B37: Controladoria - Pró-Saúde
A65526: http://www.valor.com.br/financas/3202342/bc-preve-reajuste-menor-para-precos-administrados-neste-ano-traz-ata

Sheet Atividade Assistencial
A1: ORÇAMENTO PROGRAMA 2017
A2: Pró-Saúde - A.B.A.S.H.
A3: Dependência: HOSPITAL DE URGENCIA DA REGIÃO SUDOESTE- HURSO
A4: Diretor: REGINALDO COSTA BIFFE
A5: Cidade: SANTA HELENA DE GOIÁS
A6: UF: GO
A7: 1. ATIVIDADES ASSISTENCIAIS | E7: 2017 | Q7: TOTAL | R7: 2017
B8: 1.1. NÚMERO DE LEITOS - ESPECIALIDADE | E8: Janeiro | F8: Fevereiro | G8: Março | H8: Abril | I8: Maio | J8: Junho | K8: Julho | L8: Agosto | M8: Setembro | N8: Outubro | O8: Novembro | P8: Dezembro | Q8: 2017 | R8: MÉDIA MENSAL
C9: 1.1.1 Clínica Médica | E9: 8 | F9: 8 | G9: 8 | H9: 8 | I9: 8 | J9: 8 | K9: 8 | L9: 8 | M9: 8 | N9: 8 | O9: 8 | P9: 8 | R9: =AVERAGE(E9:P9) -> 8
C10: 1.1.2. Clínica Pediátrica | E10: 8 | F10: 8 | G10: 8 | H10: 8 | I10: 8 | J10: 8 | K10: 8 | L10: 8 | M10: 8 | N10: 8 | O10: 8 | P10: 8 | R10: =AVERAGE(E10:P10) -> 8
C11: 1.1.3. Clínica Cirúrgica | E11: 18 | F11: 18 | G11: 18 | H11: 18 | I11: 18 | J11: 18 | K11: 18 | L11: 18 | M11: 18 | N11: 18 | O11: 18 | P11: 18 | R11: =AVERAGE(E11:P11) -> 18
C12: 1.1.4. Clínica Obstétrica | E12: 0 | F12: 0 | G12: 0 | H12: 0 | I12: 0 | J12: 0 | K12: 0 | L12: 0 | M12: 0 | N12: 0 | O12: 0 | P12: 0 | R12: =AVERAGE(E12:P12) -> 0
C13: 1.1.5. UTI de Adultos | E13: 10 | F13: 10 | G13: 10 | H13: 10 | I13: 10 | J13: 10 | K13: 10 | L13: 10 | M13: 10 | N13: 10 | O13: 10 | P13: 10 | R13: =AVERAGE(E13:P13) -> 10
C14: 1.1.6. UTI Infantil | E14: 10 | F14: 10 | G14: 10 | H14: 10 | I14: 10 | J14: 10 | K14: 10 | L14: 10 | M14: 10 | N14: 10 | O14: 10 | P14: 10 | R14: =AVERAGE(E14:P14) -> 10
C15: 1.1.7. UTI Neonatal | E15: 0 | F15: 0 | G15: 0 | H15: 0 | I15: 0 | J15: 0 | K15: 0 | L15: 0 | M15: 0 | N15: 0 | O15: 0 | P15: 0 | R15: =AVERAGE(E15:P15) -> 0
C16: 1.1.8. Berçário | E16: 0 | F16: 0 | G16: 0 | H16: 0 | I16: 0 | J16: 0 | K16: 0 | L16: 0 | M16: 0 | N16: 0 | O16: 0 | P16: 0 | R16: =AVERAGE(E16:P16) -> 0
C17: 1.1.9. Clínica Ortopédica | E17: 35 | F17: 35 | G17: 35 | H17: 35 | I17: 35 | J17: 35 | K17: 35 | L17: 35 | M17: 35 | N17: 35 | O17: 35 | P17: 35 | R17: =AVERAGE(E17:P17) -> 35
C18: 1.2.0. Outros | E18: 0 | F18: 0 | G18: 0 | H18: 0 | I18: 0 | J18: 0 | K18: 0 | L18: 0 | M18: 0 | N18: 0 | O18: 0 | P18: 0 | R18: =AVERAGE(E18:P18) -> 0
C19: Total de Leitos | E19: =SUM(E9:E18) -> 89 | F19: =SUM(F9:F18) -> 89 | G19: =SUM(G9:G18) -> 89 | H19: =SUM(H9:H18) -> 89 | I19: =SUM(I9:I18) -> 89 | J19: =SUM(J9:J18) -> 89 | K19: =SUM(K9:K18) -> 89 | L19: =SUM(L9:L18) -> 89 | ... P19: =SUM(P9:P18) -> 89 | R19: =SUM(R9:R18) -> 89
B20: 1.1.1 PACIENTES DIA POR ESPECIALIDADE
C21: 1.1.1.1 Clínica Médica | E21: 198.4 | F21: 185.6 | G21: 198.4 | H21: 192 | I21: 198.4 | J21: 192 | K21: 198.4 | L21: 198.4 | M21: 192 | N21: 198.4 | O21: 192 | P21: 198.4 | Q21: =SUM(E21:P21) -> 2342.4 | R21: =AVERAGE(E21:P21) -> 195.2
C22: 1.1.1.2. Clínica Pediátrica | E22: 124 | F22: 116 | G22: 124 | H22: 120 | I22: 124 | J22: 120 | K22: 124 | L22: 124 | M22: 120 | N22: 124 | O22: 120 | P22: 124 | Q22: =SUM(E22:P22) -> 1464 | R22: =AVERAGE(E22:P22) -> 122
C23: 1.1.1.3. Clínica Cirúrgica | E23: 446.4 | F23: 417.6 | G23: 446.4 | H23: 432 | I23: 446.4 | J23: 432 | K23: 446.4 | L23: 446.4 | M23: 432 | N23: 446.4 | O23: 432 | P23: 446.4 | Q23: =SUM(E23:P23) -> 5270.4 | R23: =AVERAGE(E23:P23) -> 439.2
C24: 1.1.1.4. Clínica Obstétrica | E24: 0 | F24: 0 | G24: 0 | H24: 0 | I24: 0 | J24: 0 | K24: 0 | L24: 0 | M24: 0 | N24: 0 | O24: 0 | P24: 0 | Q24: =SUM(E24:P24) -> 0 | R24: =AVERAGE(E24:P24) -> 0
C25: 1.1.1.5. UTI de Adultos | E25: 279 | F25: 261 | G25: 279 | H25: 270 | I25: 279 | J25: 270 | K25: 279 | L25: 279 | M25: 270 | N25: 279 | O25: 270 | P25: 279 | Q25: =SUM(E25:P25) -> 3294 | R25: =AVERAGE(E25:P25) -> 274.5
C26: 1.1.1.6. UTI Infantil | E26: 244.9 | F26: 229.1 | G26: 244.9 | H26: 237 | I26: 244.9 | J26: 237 | K26: 244.9 | L26: 244.9 | M26: 237 | N26: 244.9 | O26: 237 | P26: 244.9 | Q26: =SUM(E26:P26) -> 2891.4 | R26: =AVERAGE(E26:P26) -> 240.95
C27: 1.1.1.7. UTI Neonatal | E27: 0 | F27: 0 | G27: 0 | H27: 0 | I27: 0 | J27: 0 | K27: 0 | L27: 0 | M27: 0 | N27: 0 | O27: 0 | P27: 0 | Q27: =SUM(E27:P27) -> 0 | R27: =AVERAGE(E27:P27) -> 0
C28: 1.1.1.8. Berçário | E28: 0 | F28: 0 | G28: 0 | H28: 0 | I28: 0 | J28: 0 | K28: 0 | L28: 0 | M28: 0 | N28: 0 | O28: 0 | P28: 0 | Q28: =SUM(E28:P28) -> 0 | R28: =AVERAGE(E28:P28) -> 0
C29: 1.1.1.9. Clínica Ortopédica | E29: 933.1 | F29: 872.9 | G29: 933.1 | H29: 903 | I29: 933.1 | J29: 903 | K29: 933.1 | L29: 933.1 | M29: 903 | N29: 933.1 | O29: 903 | P29: 933.1 | Q29: =SUM(E29:P29) -> 11016.6 | R29: =AVERAGE(E29:P29) -> 918.05
C30: 1.1.2.0. Outros | E30: 0 | F30: 0 | G30: 0 | H30: 0 | I30: 0 | J30: 0 | K30: 0 | L30: 0 | M30: 0 | N30: 0 | O30: 0 | P30: 0 | Q30: =SUM(E30:P30) -> 0 | R30: =AVERAGE(E30:P30) -> 0
C31: Total de Pacientes Dia por Especialidade | E31: =SUM(E21:E30) -> 2225.8 | F31: =SUM(F21:F30) -> 2082.2 | G31: =SUM(G21:G30) -> 2225.8 | H31: =SUM(H21:H30) -> 2154 | I31: =SUM(I21:I30) -> 2225.8 | J31: =SUM(J21:J30) -> 2154 | K31: =SUM(K21:K30) -> 2225.8 | L31: =SUM(L21:L30) -> 2225.8 | ... R31: =SUM(R21:R30) -> 2189.9
B32: 1.2. NÚMERO DE PACIENTES-DIA
C33: 1.2.1. PACIENTES PAGANTES
C34: 1.2.1.1. Particulares | E34: 0 | F34: 0 | G34: 0 | H34: 0 | I34: 0 | J34: 0 | K34: 0 | L34: 0 | M34: 0 | N34: 0 | O34: 0 | P34: 0 | Q34: =SUM(E34:P34) -> 0 | R34: =AVERAGE(E34:P34) -> 0
C35: 1.2.1.2. Convênio A | E35: 0 | F35: 0 | G35: 0 | H35: 0 | I35: 0 | J35: 0 | K35: 0 | L35: 0 | M35: 0 | N35: 0 | O35: 0 | P35: 0 | Q35: =SUM(E35:P35) -> 0 | R35: =AVERAGE(E35:P35) -> 0
C36: 1.2.1.3. Convênio B | E36: 0 | F36: 0 | G36: 0 | H36: 0 | I36: 0 | J36: 0 | K36: 0 | L36: 0 | M36: 0 | N36: 0 | O36: 0 | P36: 0 | Q36: =SUM(E36:P36) -> 0 | R36: =AVERAGE(E36:P36) -> 0
C37: 1.2.1.4. Convênio C | E37: 0 | F37: 0 | G37: 0 | H37: 0 | I37: 0 | J37: 0 | K37: 0 | L37: 0 | M37: 0 | N37: 0 | O37: 0 | P37: 0 | Q37: =SUM(E37:P37) -> 0 | R37: =AVERAGE(E37:P37) -> 0
C38: 1.2.1.5. Outros Convênios | E38: 0 | F38: 0 | G38: 0 | H38: 0 | I38: 0 | J38: 0 | K38: 0 | L38: 0 | M38: 0 | N38: 0 | O38: 0 | P38: 0 | Q38: =SUM(E38:P38) -> 0 | R38: =AVERAGE(E38:P38) -> 0
C39: Sub total ( 1 ) | E39: =SUM(E34:E38) -> 0 | F39: =SUM(F34:F38) -> 0 | G39: =SUM(G34:G38) -> 0 | H39: =SUM(H34:H38) -> 0 | I39: =SUM(I34:I38) -> 0 | J39: =SUM(J34:J38) -> 0 | K39: =SUM(K34:K38) -> 0 | L39: =SUM(L34:L38) -> 0 | ... R39: =SUM(R34:R38) -> 0
C40: 1.2.2. SOCIAIS
...

Sheet Quadro de Pessoal
A1: ORÇAMENTO PROGRAMA 2017
A2: Pró-Saúde - A.B.A.S.H.
A3: ='Atividade Assistencial'!A3:F3 -> Dependência: HOSPITAL DE URGENCIA DA REGIÃO SUDOESTE- HURSO
A4: ='Atividade Assistencial'!A4:C4 -> Diretor: REGINALDO COSTA BIFFE
A5: ='Atividade Assistencial'!A5:C5 -> Cidade: SANTA HELENA DE GOIÁS
A6: ='Atividade Assistencial'!A6:C6 -> UF: GO | P6: MÉDIA
A7: 2. RECURSOS HUMANOS | D7: 2017 | P7: TOTAL
B8: 2.1. RECURSOS HUMANOS - PRÓPRIO | D8: Janeiro | E8: Fevereiro | F8: Março | G8: Abril | H8: Maio | I8: Junho | J8: Julho | K8: Agosto | L8: Setembro | M8: Outubro | N8: Novembro | O8: Dezembro | P8: 2017
C9: 2.1.1. Administração | D9: 60 | E9: 60 | F9: 60 | G9: 60 | H9: 60 | I9: 60 | J9: 60 | K9: 60 | L9: 60 | M9: 60 | N9: 60 | O9: 60 | P9: =AVERAGE(D9:O9) -> 60
C10: 2.1.2. Enfermagem - Total | D10: =SUM(D11:D14) -> 82 | E10: =SUM(E11:E14) -> 82 | F10: =SUM(F11:F14) -> 82 | G10: =SUM(G11:G14) -> 82 | H10: =SUM(H11:H14) -> 82 | I10: =SUM(I11:I14) -> 82 | J10: =SUM(J11:J14) -> 82 | K10: =SUM(K11:K14) -> 82 | ... P10: =SUM(P11:P14) -> 82
C11: 2.1.2.1. Enfermeiros | D11: 22 | E11: 22 | F11: 22 | G11: 22 | H11: 22 | I11: 22 | J11: 22 | K11: 22 | L11: 22 | M11: 22 | N11: 22 | O11: 22 | P11: =AVERAGE(D11:O11) -> 22
C12: 2.1.2.2. Técnicos de Enfermagem | D12: 54 | E12: 54 | F12: 54 | G12: 54 | H12: 54 | I12: 54 | J12: 54 | K12: 54 | L12: 54 | M12: 54 | N12: 54 | O12: 54 | P12: =AVERAGE(D12:O12) -> 54
C13: 2.1.2.3. Auxiliares de Enfermagem | D13: 0 | E13: 0 | F13: 0 | G13: 0 | H13: 0 | I13: 0 | J13: 0 | K13: 0 | L13: 0 | M13: 0 | N13: 0 | O13: 0 | P13: =AVERAGE(D13:O13) -> 0
C14: 2.1.2.4. Pessoal de Apoio | D14: 6 | E14: 6 | F14: 6 | G14: 6 | H14: 6 | I14: 6 | J14: 6 | K14: 6 | L14: 6 | M14: 6 | N14: 6 | O14: 6 | P14: =AVERAGE(D14:O14) -> 6
C15: 2.1.3. S.A.D.T. | D15: 9 | E15: 9 | F15: 9 | G15: 9 | H15: 9 | I15: 9 | J15: 9 | K15: 9 | L15: 9 | M15: 9 | N15: 9 | O15: 9 | P15: =AVERAGE(D15:O15) -> 9
C16: 2.1.4. Nutrição | D16: 27 | E16: 27 | F16: 27 | G16: 27 | H16: 27 | I16: 27 | J16: 27 | K16: 27 | L16: 27 | M16: 27 | N16: 27 | O16: 27 | P16: =AVERAGE(D16:O16) -> 27
C17: 2.1.5. Limpeza e Higienização | D17: 26 | E17: 26 | F17: 26 | G17: 26 | H17: 26 | I17: 26 | J17: 26 | K17: 26 | L17: 26 | M17: 26 | N17: 26 | O17: 26 | P17: =AVERAGE(D17:O17) -> 26
C18: 2.1.6. Processamento da Roupa | D18: 1 | E18: 1 | F18: 1 | G18: 1 | H18: 1 | I18: 1 | J18: 1 | K18: 1 | L18: 1 | M18: 1 | N18: 1 | O18: 1 | P18: =AVERAGE(D18:O18) -> 1
C19: 2.1.7. Manutenção / Segurança | D19: 5 | E19: 5 | F19: 5 | G19: 5 | H19: 5 | I19: 5 | J19: 5 | K19: 5 | L19: 5 | M19: 5 | N19: 5 | O19: 5 | P19: =AVERAGE(D19:O19) -> 5
C20: S u b t o t a l ( 1 ) | D20: =D9+D10+D15+D16+D17+D18+D19 -> 210 | E20: =E9+E10+E15+E16+E17+E18+E19 -> 210 | F20: =F9+F10+F15+F16+F17+F18+F19 -> 210 | G20: =G9+G10+G15+G16+G17+G18+G19 -> 210 | H20: =H9+H10+H15+H16+H17+H18+H19 -> 210 | I20: =I9+I10+I15+I16+I17+I18+I19 -> 210 | J20: =J9+J10+J15+J16+J17+J18+J19 -> 210 | K20: =K9+K10+K15+K16+K17+K18+K19 -> 210 | ... P20: =P9+P10+P15+P16+P17+P18+P19 -> 210
C21: 2.1.8. Obras | D21: 0 | E21: 0 | F21: 0 | G21: 0 | H21: 0 | I21: 0 | J21: 0 | K21: 0 | L21: 0 | M21: 0 | N21: 0 | O21: 0 | P21: =AVERAGE(D21:O21) -> 0
C22: 2.1.9. Médicos empregados | D22: 2 | E22: 2 | F22: 2 | G22: 2 | H22: 2 | I22: 2 | J22: 2 | K22: 2 | L22: 2 | M22: 2 | N22: 2 | O22: 2 | P22: =AVERAGE(D22:O22) -> 2
C23: 2.1.10. Outros | D23: 19 | E23: 19 | F23: 19 | G23: 19 | H23: 19 | I23: 19 | J23: 19 | K23: 19 | L23: 19 | M23: 19 | N23: 19 | O23: 19 | P23: =AVERAGE(D23:O23) -> 19
C24: S u b t o t a l ( 2 ) | D24: =D21+D22+D23 -> 21 | E24: =E21+E22+E23 -> 21 | F24: =F21+F22+F23 -> 21 | G24: =G21+G22+G23 -> 21 | H24: =H21+H22+H23 -> 21 | I24: =I21+I22+I23 -> 21 | J24: =J21+J22+J23 -> 21 | K24: =K21+K22+K23 -> 21 | ... P24: =P21+P22+P23 -> 21
C25: T o t a l ( 1 + 2 ) | D25: =D20+D24 -> 231 | E25: =E20+E24 -> 231 | F25: =F20+F24 -> 231 | G25: =G20+G24 -> 231 | H25: =H20+H24 -> 231 | I25: =I20+I24 -> 231 | J25: =J20+J24 -> 231 | K25: =K20+K24 -> 231 | ... P25: =P20+P24 -> 231
B26: 2.2. RECURSOS HUMANOS - CEDIDO
C27: 2.2.1. Administração | D27: 55 | E27: 55 | F27: 55 | G27: 55 | H27: 55 | I27: 55 | J27: 55 | K27: 55 | L27: 55 | M27: 55 | N27: 55 | O27: 55 | P27: =AVERAGE(D27:O27) -> 55
C28: 2.2.2. Enfermagem - Total | D28: =SUM(D29:D32) -> 200 | E28: =SUM(E29:E32) -> 200 | F28: =SUM(F29:F32) -> 200 | G28: =SUM(G29:G32) -> 200 | H28: =SUM(H29:H32) -> 200 | I28: =SUM(I29:I32) -> 200 | J28: =SUM(J29:J32) -> 200 | K28: =SUM(K29:K32) -> 200 | ... P28: =SUM(P29:P32) -> 200
C29: 2.2.2.1. Enfermeiros | D29: 20 | E29: 20 | F29: 20 | G29: 20 | H29: 20 | I29: 20 | J29: 20 | K29: 20 | L29: 20 | M29: 20 | N29: 20 | O29: 20 | P29: =AVERAGE(D29:O29) -> 20
C30: 2.2.2.2. Técnicos de Enfermagem | D30: 171 | E30: 171 | F30: 171 | G30: 171 | H30: 171 | I30: 171 | J30: 171 | K30: 171 | L30: 171 | M30: 171 | N30: 171 | O30: 171 | P30: =AVERAGE(D30:O30) -> 171
C31: 2.2.2.3. Auxiliares de Enfermagem | D31: 0 | E31: 0 | F31: 0 | G31: 0 | H31: 0 | I31: 0 | J31: 0 | K31: 0 | L31: 0 | M31: 0 | N31: 0 | O31: 0 | P31: =AVERAGE(D31:O31) -> 0
C32: 2.2.2.4. Pessoal de Apoio | D32: 9 | E32: 9 | F32: 9 | G32: 9 | H32: 9 | I32: 9 | J32: 9 | K32: 9 | L32: 9 | M32: 9 | N32: 9 | O32: 9 | P32: =AVERAGE(D32:O32) -> 9
C33: 2.2.3. S.A.D.T. | D33: 19 | E33: 19 | F33: 19 | G33: 19 | H33: 19 | I33: 19 | J33: 19 | K33: 19 | L33: 19 | M33: 19 | N33: 19 | O33: 19 | P33: =AVERAGE(D33:O33) -> 19
C34: 2.2.4. Nutrição | D34: 0 | E34: 0 | F34: 0 | G34: 0 | H34: 0 | I34: 0 | J34: 0 | K34: 0 | L34: 0 | M34: 0 | N34: 0 | O34: 0 | P34: =AVERAGE(D34:O34) -> 0
C35: 2.2.5. Limpeza e Higienização | D35: 35 | E35: 35 | F35: 35 | G35: 35 | H35: 35 | I35: 35 | J35: 35 | K35: 35 | L35: 35 | M35: 35 | N35: 35 | O35: 35 | P35: =AVERAGE(D35:O35) -> 35
C36: 2.2.6. Processamento da Roupa | D36: 6 | E36: 6 | F36: 6 | G36: 6 | H36: 6 | I36: 6 | J36: 6 | K36: 6 | L36: 6 | M36: 6 | N36: 6 | O36: 6 | P36: =AVERAGE(D36:O36) -> 6
C37: 2.2.7. Manutenção / Segurança | D37: 5 | E37: 5 | F37: 5 | G37: 5 | H37: 5 | I37: 5 | J37: 5 | K37: 5 | L37: 5 | M37: 5 | N37: 5 | O37: 5 | P37: =AVERAGE(D37:O37) -> 5
C38: S u b t o t a l ( 3 ) | D38: =D27+D28+D33+D34+D35+D36+D37 -> 320 | E38: =E27+E28+E33+E34+E35+E36+E37 -> 320 | F38: =F27+F28+F33+F34+F35+F36+F37 -> 320 | G38: =G27+G28+G33+G34+G35+G36+G37 -> 320 | H38: =H27+H28+H33+H34+H35+H36+H37 -> 320 | I38: =I27+I28+I33+I34+I35+I36+I37 -> 320 | J38: =J27+J28+J33+J34+J35+J36+J37 -> 320 | K38: =K27+K28+K33+K34+K35+K36+K37 -> 320 | ... P38: =P27+P28+P33+P34+P35+P36+P37 -> 320
C39: 2.2.8. Obras | D39: 0 | E39: 0 | F39: 0 | G39: 0 | H39: 0 | I39: 0 | J39: 0 | K39: 0 | L39: 0 | M39: 0 | N39: 0 | O39: 0 | P39: =AVERAGE(D39:O39) -> 0
C40: 2.2.9. Médicos | D40: 7 | E40: 7 | F40: 7 | G40: 7 | H40: 7 | I40: 7 | J40: 7 | K40: 7 | L40: 7 | M40: 7 | N40: 7 | O40: 7 | P40: =AVERAGE(D40:O40) -> 7
...

Sheet Receita-Despesa
A1: ORÇAMENTO PROGRAMA 2017
A2: ='Orçamento (resumo)'!A2:H2 -> Pró-Saúde - A.B.A.S.H.
A3: ='Atividade Assistencial'!A3:F3 -> Dependência: HOSPITAL DE URGENCIA DA REGIÃO SUDOESTE- HURSO
A4: ='Atividade Assistencial'!A4:C4 -> Diretor: REGINALDO COSTA BIFFE
A5: ='Atividade Assistencial'!A5:C5 -> Cidade: SANTA HELENA DE GOIÁS
A6: ='Atividade Assistencial'!A6:C6 -> UF: GO
A9: 4. ATIVIDADES ECONÔMICAS | G9: Janeiro | H9: Fevereiro | I9: Março | J9: Abril | K9: Maio | L9: Junho | M9: Julho | N9: Agosto | O9: Setembro | P9: Outubro | Q9: Novembro | R9: Dezembro | S9: 2017 | T9: =S9 -> 2017 | V9: NOTA TÉCNICA: (Anotar memória de calculo e justificativas em todas as linhas desta planilha)
B10: 4.1. RECEITAS | S10: TOTAL | T10: MÉDIA MENSAL | V10: NOTA TÉCNICA:
C11: 4.1.1. RECEITAS OPERACIONAIS
D12: 4.1.1.1. Diárias e Taxas | G12: 0 | H12: 0 | I12: 0 | J12: 0 | K12: 0 | L12: 0 | M12: 0 | N12: 0 | O12: 0 | P12: 0 | Q12: 0 | R12: 0 | S12: =SUM(G12:R12) -> 0 | T12: =S12/$C$304 -> 0 | V12: Não se aplica
D13: 4.1.1.2. S.A.D.T. | G13: 0 | H13: 0 | I13: 0 | J13: 0 | K13: 0 | L13: 0 | M13: 0 | N13: 0 | O13: 0 | P13: 0 | Q13: 0 | R13: 0 | S13: =SUM(G13:R13) -> 0 | T13: =S13/$C$304 -> 0 | V13: Não se aplica
D14: 4.1.1.3. Mat. Med. | G14: 0 | H14: 0 | I14: 0 | J14: 0 | K14: 0 | L14: 0 | M14: 0 | N14: 0 | O14: 0 | P14: 0 | Q14: 0 | R14: 0 | S14: =SUM(G14:R14) -> 0 | T14: =S14/$C$304 -> 0 | V14: Não se aplica
D15: 4.1.1.4. Gases Medicinais | G15: 0 | H15: 0 | I15: 0 | J15: 0 | K15: 0 | L15: 0 | M15: 0 | N15: 0 | O15: 0 | P15: 0 | Q15: 0 | R15: 0 | S15: =SUM(G15:R15) -> 0 | T15: =S15/$C$304 -> 0 | V15: Não se aplica
D16: 4.1.1.5. Honorários | G16: 0 | H16: 0 | I16: 0 | J16: 0 | K16: 0 | L16: 0 | M16: 0 | N16: 0 | O16: 0 | P16: 0 | Q16: 0 | R16: 0 | S16: =SUM(G16:R16) -> 0 | T16: =S16/$C$304 -> 0 | V16: Não se aplica
D17: 4.1.1.6. linha livre | G17: 0 | H17: 0 | I17: 0 | J17: 0 | K17: 0 | L17: 0 | M17: 0 | N17: 0 | O17: 0 | P17: 0 | Q17: 0 | R17: 0 | S17: =SUM(G17:R17) -> 0 | T17: =S17/$C$304 -> 0 | V17: Não se aplica
D18: 4.1.1.7. linha livre | G18: 0 | H18: 0 | I18: 0 | J18: 0 | K18: 0 | L18: 0 | M18: 0 | N18: 0 | O18: 0 | P18: 0 | Q18: 0 | R18: 0 | S18: =SUM(G18:R18) -> 0 | T18: =S18/$C$304 -> 0 | V18: Não se aplica
D19: 4.1.1.8. Outras | G19: 3026767.7 | H19: 3026767.7 | I19: 3026767.7 | J19: 3026767.7 | K19: 3026767.7 | L19: 3026767.7 | M19: 3026767.7 | N19: 3026767.7 | O19: 3026767.7 | P19: 3026767.7 | Q19: 3026767.7 | R19: 3026767.7 | S19: =SUM(G19:R19) -> 36321213 | T19: =S19/$C$304 -> 3026767.7 | V19: Conforme 3º aditivo contratual: a partir de abril R$ 3.278.767,73 e sem previsão reajuste no 4º aditivo que vigorará a partir de 16/11/2016 a maio/2017
D20: Sub-Total de Receitas Operacionais. ( 1 ) | G20: =SUM(G12:G19) -> 3026767.7 | H20: =SUM(H12:H19) -> 3026767.7 | I20: =SUM(I12:I19) -> 3026767.7 | J20: =SUM(J12:J19) -> 3026767.7 | K20: =SUM(K12:K19) -> 3026767.7 | L20: =SUM(L12:L19) -> 3026767.7 | M20: =SUM(M12:M19) -> 3026767.7 | N20: =SUM(N12:N19) -> 3026767.7 | ... S20: =SUM(S12:S19) -> 36321213 | T20: =S20/$C$304 -> 3026767.7
D21: 4.1.1.7. DEDUÇÕES DAS REC. OPERACIONAIS
D22: 4.1.1.7.1. Glosas | G22: 0 | H22: 0 | I22: 0 | J22: 0 | K22: 0 | L22: 0 | M22: 0 | N22: 0 | O22: 0 | P22: 0 | Q22: 0 | R22: 0 | S22: =SUM(G22:R22) -> 0 | T22: =S22/$C$304 -> 0 | V22: Não se aplica
D23: 4.1.1.7.2. Descontos concedidos | G23: 0 | H23: 0 | I23: 0 | J23: 0 | K23: 0 | L23: 0 | M23: 0 | N23: 0 | O23: 0 | P23: 0 | Q23: 0 | R23: 0 | S23: =SUM(G23:R23) -> 0 | T23: =S23/$C$304 -> 0 | V23: Não se aplica
D24: 4.1.1.7.3. linha livre | G24: 0 | H24: 0 | I24: 0 | J24: 0 | K24: 0 | L24: 0 | M24: 0 | N24: 0 | O24: 0 | P24: 0 | Q24: 0 | R24: 0 | S24: =SUM(G24:R24) -> 0 | T24: =S24/$C$304 -> 0 | V24: Não se aplica
D25: 4.1.1.7.4. linha livre | G25: 0 | H25: 0 | I25: 0 | J25: 0 | K25: 0 | L25: 0 | M25: 0 | N25: 0 | O25: 0 | P25: 0 | Q25: 0 | R25: 0 | S25: =SUM(G25:R25) -> 0 | T25: =S25/$C$304 -> 0 | V25: Não se aplica
D26: 4.1.1.7.5. linha livre | G26: 0 | H26: 0 | I26: 0 | J26: 0 | K26: 0 | L26: 0 | M26: 0 | N26: 0 | O26: 0 | P26: 0 | Q26: 0 | R26: 0 | S26: =SUM(G26:R26) -> 0 | T26: =S26/$C$304 -> 0 | V26: Não se aplica
D27: Sub-total ( 2 ) | G27: =SUM(G22:G26) -> 0 | H27: =SUM(H22:H26) -> 0 | I27: =SUM(I22:I26) -> 0 | J27: =SUM(J22:J26) -> 0 | K27: =SUM(K22:K26) -> 0 | L27: =SUM(L22:L26) -> 0 | M27: =SUM(M22:M26) -> 0 | N27: =SUM(N22:N26) -> 0 | ... S27: =SUM(S22:S26) -> 0 | T27: =S27/$C$304 -> 0 | V27: Não se aplica
D28: Total de Receitas Operacionais ( 1 - 2 ) | G28: =G20-G27 -> 3026767.7 | H28: =H20-H27 -> 3026767.7 | I28: =I20-I27 -> 3026767.7 | J28: =J20-J27 -> 3026767.7 | K28: =K20-K27 -> 3026767.7 | L28: =L20-L27 -> 3026767.7 | M28: =M20-M27 -> 3026767.7 | N28: =N20-N27 -> 3026767.7 | ... S28: =S20-S27 -> 36321213 | T28: =S28/$C$304 -> 3026767.7
C29: 4.1.2. RECEITAS NÃO OPERACIONAIS
D30: 4.1.2.1. Aluguéis | G30: 0 | H30: 0 | I30: 0 | J30: 0 | K30: 0 | L30: 0 | M30: 0 | N30: 0 | O30: 0 | P30: 0 | Q30: 0 | R30: 0 | S30: =SUM(G30:R30) -> 0 | T30: =S30/$C$304 -> 0 | V30: Não se aplica
D31: 4.1.2.2. Subvenções e Doações | G31: 0 | H31: 0 | I31: 0 | J31: 0 | K31: 0 | L31: 0 | M31: 0 | N31: 0 | O31: 0 | P31: 0 | Q31: 0 | R31: 0 | S31: =SUM(G31:R31) -> 0 | T31: =S31/$C$304 -> 0 | V31: Não se aplica
D32: 4.1.2.3. Cota Patronal - Provisão ..... (NÃO PREENCHER) | S32: =SUM(G32:R32) -> 0 | T32: =S32/$C$304 -> 0
D33: 4.1.2.4. Financeiras | G33: 700 | H33: 700 | I33: 700 | J33: 700 | K33: 700 | L33: 700 | M33: 700 | N33: 700 | O33: 700 | P33: 700 | Q33: 700 | R33: 700 | S33: =SUM(G33:R33) -> 8400 | T33: =S33/$C$304 -> 700 | V33: Rendimento das aplicações financeira automáticas da CC realizadas no Banco Itaú. Considerado média de janeiro a setembro/2016
D34: 4.1.2.5. Honorários Médicos | G34: 0 | H34: 0 | I34: 0 | J34: 0 | K34: 0 | L34: 0 | M34: 0 | N34: 0 | O34: 0 | P34: 0 | Q34: 0 | R34: 0 | S34: =SUM(G34:R34) -> 0 | T34: =S34/$C$304 -> 0 | V34: Não se aplica
D35: 4.1.2.6. Resultado Plano Próprio Saúde | G35: 0 | H35: 0 | I35: 0 | J35: 0 | K35: 0 | L35: 0 | M35: 0 | N35: 0 | O35: 0 | P35: 0 | Q35: 0 | R35: 0 | S35: =SUM(G35:R35) -> 0 | T35: =S35/$C$304 -> 0 | V35: Não se aplica
D36: 4.1.2.7. linha livre | G36: 0 | H36: 0 | I36: 0 | J36: 0 | K36: 0 | L36: 0 | M36: 0 | N36: 0 | O36: 0 | P36: 0 | Q36: 0 | R36: 0 | S36: =SUM(G36:R36) -> 0 | T36: =S36/$C$304 -> 0 | V36: Não se aplica
D37: 4.1.2.8. linha livre | G37: 0 | H37: 0 | I37: 0 | J37: 0 | K37: 0 | L37: 0 | M37: 0 | N37: 0 | O37: 0 | P37: 0 | Q37: 0 | R37: 0 | S37: =SUM(G37:R37) -> 0 | T37: =S37/$C$304 -> 0 | V37: Não se aplica
D38: 4.1.2.9. Outras | G38: 250000 | H38: 250000 | I38: 250000 | J38: 250000 | K38: 250000 | L38: 250000 | M38: 250000 | N38: 250000 | O38: 250000 | P38: 250000 | Q38: 250000 | R38: 250000 | S38: =SUM(G38:R38) -> 3000000 | T38: =S38/$C$304 -> 250000 | V38: Custo Cooporativo Compartilhado - considerado valor do limite máximo
D39: Total de Receitas Não Operacionais ( 3 ) | G39: =SUM(G30:G38) -> 250700 | H39: =SUM(H30:H38) -> 250700 | I39: =SUM(I30:I38) -> 250700 | J39: =SUM(J30:J38) -> 250700 | K39: =SUM(K30:K38) -> 250700 | L39: =SUM(L30:L38) -> 250700 | M39: =SUM(M30:M38) -> 250700 | N39: =SUM(N30:N38) -> 250700 | ... T39: =SUM(T30:T38) -> 250700
C40: Total de Receitas = ( 1 - 2 + 3 ) | G40: =G28+G39 -> 3277467.7 | H40: =H28+H39 -> 3277467.7 | I40: =I28+I39 -> 3277467.7 | J40: =J28+J39 -> 3277467.7 | K40: =K28+K39 -> 3277467.7 | L40: =L28+L39 -> 3277467.7 | M40: =M28+M39 -> 3277467.7 | N40: =N28+N39 -> 3277467.7 | ... T40: =T28+T39 -> 3277467.7
B41: 4.2. DESPESAS
C42: 4.2.1. DESPESAS OPERACIONAIS
...

Sheet Orçado x Realizado 
A1: ACOMPANHAMENTO ORÇAMENTÁRIO - 2017 | F1: ='Receita-Despesa'!A3 -> Dependência: HOSPITAL DE URGENCIA DA REGIÃO SUDOESTE- HURSO
A2: Pró-Saúde - A.B.A.S.H. | F2: ='Atividade Assistencial'!A4 -> Diretor: REGINALDO COSTA BIFFE
F3: ='Atividade Assistencial'!A5 -> Cidade: SANTA HELENA DE GOIÁS
F4: ='Atividade Assistencial'!A6 -> UF: GO
A6: ='Receita-Despesa'!A9 -> 4. ATIVIDADES ECONÔMICAS | F6: Janeiro | J6: Fevereiro | N6: Março | R6: Abril | V6: Maio | Z6: Junho | AD6: Julho | AH6: Agosto | AL6: Setembro | AP6: Outubro | AT6: Novembro | AX6: Dezembro | BB6: ACUMULADO ANO 2017
B7: ='Receita-Despesa'!B10 -> 4.1. RECEITAS | F7: Orçado | G7: Realizado | H7: Diferença | I7: % | J7: Orçado | K7: Realizado | L7: Diferença | M7: % | N7: Orçado | O7: Realizado | P7: Diferença | Q7: % | R7: Orçado | S7: Realizado | T7: Diferença | U7: % | V7: Orçado | W7: Realizado | X7: Diferença | Y7: % | Z7: Orçado | AA7: Realizado | AB7: Diferença | AC7: % | AD7: Orçado | AE7: Realizado | AF7: Diferença | AG7: % | AH7: Orçado | AI7: Realizado | AJ7: Diferença | AK7: % | AL7: Orçado | AM7: Realizado | AN7: Diferença | AO7: % | AP7: Orçado | AQ7: Realizado | AR7: Diferença | AS7: % | AT7: Orçado | AU7: Realizado | AV7: Diferença | AW7: % | AX7: Orçado | AY7: Realizado | AZ7: Diferença | BA7: % | BB7: Orçado | BC7: Realizado | BD7: Diferença | BE7: %
C8: ='Receita-Despesa'!C11 -> 4.1.1. RECEITAS OPERACIONAIS
D9: ='Receita-Despesa'!D12 -> 4.1.1.1. Diárias e Taxas | F9: ='Receita-Despesa'!G12 -> 0 | H9: =G9-F9 -> 0 | I9: =G9/F9-1 -> #DIV/0! | J9: ='Receita-Despesa'!H12 -> 0 | L9: =K9-J9 -> 0 | M9: =K9/J9-1 -> #DIV/0! | N9: ='Receita-Despesa'!I12 -> 0 | P9: =O9-N9 -> 0 | Q9: =O9/N9-1 -> #DIV/0! | R9: ='Receita-Despesa'!J12 -> 0 | T9: =S9-R9 -> 0 | U9: =S9/R9-1 -> #DIV/0! | V9: ='Receita-Despesa'!K12 -> 0 | X9: =W9-V9 -> 0 | Y9: =W9/V9-1 -> #DIV/0! | Z9: ='Receita-Despesa'!L12 -> 0 | AB9: =AA9-Z9 -> 0 | AC9: =AA9/Z9-1 -> #DIV/0! | AD9: ='Receita-Despesa'!M12 -> 0 | AF9: =AE9-AD9 -> 0 | AG9: =AE9/AD9-1 -> #DIV/0! | AH9: ='Receita-Despesa'!N12 -> 0 | AJ9: =AI9-AH9 -> 0 | AK9: =AI9/AH9-1 -> #DIV/0! | AL9: ='Receita-Despesa'!O12 -> 0 | AN9: =AM9-AL9 -> 0 | AO9: =AM9/AL9-1 -> #DIV/0! | AP9: ='Receita-Despesa'!P12 -> 0 | AR9: =AQ9-AP9 -> 0 | AS9: =AQ9/AP9-1 -> #DIV/0! | AT9: ='Receita-Despesa'!Q12 -> 0 | AV9: =AU9-AT9 -> 0 | AW9: =AU9/AT9-1 -> #DIV/0! | AX9: ='Receita-Despesa'!R12 -> 0 | AZ9: =AY9-AX9 -> 0 | BA9: =AY9/AX9-1 -> #DIV/0! | BB9: =F9+J9+N9+R9+V9+Z9+AD9+AH9+AL9+AP9+AT9+AX9 -> 0 | BC9: =G9+K9+O9+S9+W9+AA9+AE9+AI9+AM9+AQ9+AU9+AY9 -> 0 | BD9: =BC9-BB9 -> 0 | BE9: =BC9/BB9-1 -> #DIV/0!
D10: ='Receita-Despesa'!D13 -> 4.1.1.2. S.A.D.T. | F10: ='Receita-Despesa'!G13 -> 0 | H10: =G10-F10 -> 0 | I10: =G10/F10-1 -> #DIV/0! | J10: ='Receita-Despesa'!H13 -> 0 | L10: =K10-J10 -> 0 | M10: =K10/J10-1 -> #DIV/0! | N10: ='Receita-Despesa'!I13 -> 0 | P10: =O10-N10 -> 0 | Q10: =O10/N10-1 -> #DIV/0! | R10: ='Receita-Despesa'!J13 -> 0 | T10: =S10-R10 -> 0 | U10: =S10/R10-1 -> #DIV/0! | V10: ='Receita-Despesa'!K13 -> 0 | X10: =W10-V10 -> 0 | Y10: =W10/V10-1 -> #DIV/0! | Z10: ='Receita-Despesa'!L13 -> 0 | AB10: =AA10-Z10 -> 0 | AC10: =AA10/Z10-1 -> #DIV/0! | AD10: ='Receita-Despesa'!M13 -> 0 | AF10: =AE10-AD10 -> 0 | AG10: =AE10/AD10-1 -> #DIV/0! | AH10: ='Receita-Despesa'!N13 -> 0 | AJ10: =AI10-AH10 -> 0 | AK10: =AI10/AH10-1 -> #DIV/0! | AL10: ='Receita-Despesa'!O13 -> 0 | AN10: =AM10-AL10 -> 0 | AO10: =AM10/AL10-1 -> #DIV/0! | AP10: ='Receita-Despesa'!P13 -> 0 | AR10: =AQ10-AP10 -> 0 | AS10: =AQ10/AP10-1 -> #DIV/0! | AT10: ='Receita-Despesa'!Q13 -> 0 | AV10: =AU10-AT10 -> 0 | AW10: =AU10/AT10-1 -> #DIV/0! | AX10: ='Receita-Despesa'!R13 -> 0 | AZ10: =AY10-AX10 -> 0 | BA10: =AY10/AX10-1 -> #DIV/0! | BB10: =F10+J10+N10+R10+V10+Z10+AD10+AH10+AL10+AP10+AT10+AX10 -> 0 | BC10: =G10+K10+O10+S10+W10+AA10+AE10+AI10+AM10+AQ10+AU10+AY10 -> 0 | BD10: =BC10-BB10 -> 0 | BE10: =BC10/BB10-1 -> #DIV/0!
D11: ='Receita-Despesa'!D14 -> 4.1.1.3. Mat. Med. | F11: ='Receita-Despesa'!G14 -> 0 | H11: =G11-F11 -> 0 | I11: =G11/F11-1 -> #DIV/0! | J11: ='Receita-Despesa'!H14 -> 0 | L11: =K11-J11 -> 0 | M11: =K11/J11-1 -> #DIV/0! | N11: ='Receita-Despesa'!I14 -> 0 | P11: =O11-N11 -> 0 | Q11: =O11/N11-1 -> #DIV/0! | R11: ='Receita-Despesa'!J14 -> 0 | T11: =S11-R11 -> 0 | U11: =S11/R11-1 -> #DIV/0! | V11: ='Receita-Despesa'!K14 -> 0 | X11: =W11-V11 -> 0 | Y11: =W11/V11-1 -> #DIV/0! | Z11: ='Receita-Despesa'!L14 -> 0 | AB11: =AA11-Z11 -> 0 | AC11: =AA11/Z11-1 -> #DIV/0! | AD11: ='Receita-Despesa'!M14 -> 0 | AF11: =AE11-AD11 -> 0 | AG11: =AE11/AD11-1 -> #DIV/0! | AH11: ='Receita-Despesa'!N14 -> 0 | AJ11: =AI11-AH11 -> 0 | AK11: =AI11/AH11-1 -> #DIV/0! | AL11: ='Receita-Despesa'!O14 -> 0 | AN11: =AM11-AL11 -> 0 | AO11: =AM11/AL11-1 -> #DIV/0! | AP11: ='Receita-Despesa'!P14 -> 0 | AR11: =AQ11-AP11 -> 0 | AS11: =AQ11/AP11-1 -> #DIV/0! | AT11: ='Receita-Despesa'!Q14 -> 0 | AV11: =AU11-AT11 -> 0 | AW11: =AU11/AT11-1 -> #DIV/0! | AX11: ='Receita-Despesa'!R14 -> 0 | AZ11: =AY11-AX11 -> 0 | BA11: =AY11/AX11-1 -> #DIV/0! | BB11: =F11+J11+N11+R11+V11+Z11+AD11+AH11+AL11+AP11+AT11+AX11 -> 0 | BC11: =G11+K11+O11+S11+W11+AA11+AE11+AI11+AM11+AQ11+AU11+AY11 -> 0 | BD11: =BC11-BB11 -> 0 | BE11: =BC11/BB11-1 -> #DIV/0!
D12: ='Receita-Despesa'!D15 -> 4.1.1.4. Gases Medicinais | F12: ='Receita-Despesa'!G15 -> 0 | H12: =G12-F12 -> 0 | I12: =G12/F12-1 -> #DIV/0! | J12: ='Receita-Despesa'!H15 -> 0 | L12: =K12-J12 -> 0 | M12: =K12/J12-1 -> #DIV/0! | N12: ='Receita-Despesa'!I15 -> 0 | P12: =O12-N12 -> 0 | Q12: =O12/N12-1 -> #DIV/0! | R12: ='Receita-Despesa'!J15 -> 0 | T12: =S12-R12 -> 0 | U12: =S12/R12-1 -> #DIV/0! | V12: ='Receita-Despesa'!K15 -> 0 | X12: =W12-V12 -> 0 | Y12: =W12/V12-1 -> #DIV/0! | Z12: ='Receita-Despesa'!L15 -> 0 | AB12: =AA12-Z12 -> 0 | AC12: =AA12/Z12-1 -> #DIV/0! | AD12: ='Receita-Despesa'!M15 -> 0 | AF12: =AE12-AD12 -> 0 | AG12: =AE12/AD12-1 -> #DIV/0! | AH12: ='Receita-Despesa'!N15 -> 0 | AJ12: =AI12-AH12 -> 0 | AK12: =AI12/AH12-1 -> #DIV/0! | AL12: ='Receita-Despesa'!O15 -> 0 | AN12: =AM12-AL12 -> 0 | AO12: =AM12/AL12-1 -> #DIV/0! | AP12: ='Receita-Despesa'!P15 -> 0 | AR12: =AQ12-AP12 -> 0 | AS12: =AQ12/AP12-1 -> #DIV/0! | AT12: ='Receita-Despesa'!Q15 -> 0 | AV12: =AU12-AT12 -> 0 | AW12: =AU12/AT12-1 -> #DIV/0! | AX12: ='Receita-Despesa'!R15 -> 0 | AZ12: =AY12-AX12 -> 0 | BA12: =AY12/AX12-1 -> #DIV/0! | BB12: =F12+J12+N12+R12+V12+Z12+AD12+AH12+AL12+AP12+AT12+AX12 -> 0 | BC12: =G12+K12+O12+S12+W12+AA12+AE12+AI12+AM12+AQ12+AU12+AY12 -> 0 | BD12: =BC12-BB12 -> 0 | BE12: =BC12/BB12-1 -> #DIV/0!
D13: ='Receita-Despesa'!D16 -> 4.1.1.5. Honorários | F13: ='Receita-Despesa'!G16 -> 0 | H13: =G13-F13 -> 0 | I13: =G13/F13-1 -> #DIV/0! | J13: ='Receita-Despesa'!H16 -> 0 | L13: =K13-J13 -> 0 | M13: =K13/J13-1 -> #DIV/0! | N13: ='Receita-Despesa'!I16 -> 0 | P13: =O13-N13 -> 0 | Q13: =O13/N13-1 -> #DIV/0! | R13: ='Receita-Despesa'!J16 -> 0 | T13: =S13-R13 -> 0 | U13: =S13/R13-1 -> #DIV/0! | V13: ='Receita-Despesa'!K16 -> 0 | X13: =W13-V13 -> 0 | Y13: =W13/V13-1 -> #DIV/0! | Z13: ='Receita-Despesa'!L16 -> 0 | AB13: =AA13-Z13 -> 0 | AC13: =AA13/Z13-1 -> #DIV/0! | AD13: ='Receita-Despesa'!M16 -> 0 | AF13: =AE13-AD13 -> 0 | AG13: =AE13/AD13-1 -> #DIV/0! | AH13: ='Receita-Despesa'!N16 -> 0 | AJ13: =AI13-AH13 -> 0 | AK13: =AI13/AH13-1 -> #DIV/0! | AL13: ='Receita-Despesa'!O16 -> 0 | AN13: =AM13-AL13 -> 0 | AO13: =AM13/AL13-1 -> #DIV/0! | AP13: ='Receita-Despesa'!P16 -> 0 | AR13: =AQ13-AP13 -> 0 | AS13: =AQ13/AP13-1 -> #DIV/0! | AT13: ='Receita-Despesa'!Q16 -> 0 | AV13: =AU13-AT13 -> 0 | AW13: =AU13/AT13-1 -> #DIV/0! | AX13: ='Receita-Despesa'!R16 -> 0 | AZ13: =AY13-AX13 -> 0 | BA13: =AY13/AX13-1 -> #DIV/0! | BB13: =F13+J13+N13+R13+V13+Z13+AD13+AH13+AL13+AP13+AT13+AX13 -> 0 | BC13: =G13+K13+O13+S13+W13+AA13+AE13+AI13+AM13+AQ13+AU13+AY13 -> 0 | BD13: =BC13-BB13 -> 0 | BE13: =BC13/BB13-1 -> #DIV/0!
D14: ='Receita-Despesa'!D17 -> 4.1.1.6. linha livre | F14: ='Receita-Despesa'!G19 -> 3026767.7 | H14: =G14-F14 -> -3026767.7 | I14: =G14/F14-1 -> -1 | J14: ='Receita-Despesa'!H17 -> 0 | L14: =K14-J14 -> 0 | M14: =K14/J14-1 -> #DIV/0! | N14: ='Receita-Despesa'!I17 -> 0 | P14: =O14-N14 -> 0 | Q14: =O14/N14-1 -> #DIV/0! | R14: ='Receita-Despesa'!J17 -> 0 | T14: =S14-R14 -> 0 | U14: =S14/R14-1 -> #DIV/0! | V14: ='Receita-Despesa'!K17 -> 0 | X14: =W14-V14 -> 0 | Y14: =W14/V14-1 -> #DIV/0! | Z14: ='Receita-Despesa'!L17 -> 0 | AB14: =AA14-Z14 -> 0 | AC14: =AA14/Z14-1 -> #DIV/0! | AD14: ='Receita-Despesa'!M17 -> 0 | AF14: =AE14-AD14 -> 0 | AG14: =AE14/AD14-1 -> #DIV/0! | AH14: ='Receita-Despesa'!N17 -> 0 | AJ14: =AI14-AH14 -> 0 | AK14: =AI14/AH14-1 -> #DIV/0! | AL14: ='Receita-Despesa'!O17 -> 0 | AN14: =AM14-AL14 -> 0 | AO14: =AM14/AL14-1 -> #DIV/0! | AP14: ='Receita-Despesa'!P17 -> 0 | AR14: =AQ14-AP14 -> 0 | AS14: =AQ14/AP14-1 -> #DIV/0! | AT14: ='Receita-Despesa'!Q17 -> 0 | AV14: =AU14-AT14 -> 0 | AW14: =AU14/AT14-1 -> #DIV/0! | AX14: ='Receita-Despesa'!R17 -> 0 | AZ14: =AY14-AX14 -> 0 | BA14: =AY14/AX14-1 -> #DIV/0! | BB14: =F14+J14+N14+R14+V14+Z14+AD14+AH14+AL14+AP14+AT14+AX14 -> 3026767.7 | BC14: =G14+K14+O14+S14+W14+AA14+AE14+AI14+AM14+AQ14+AU14+AY14 -> 0 | BD14: =BC14-BB14 -> -3026767.7 | BE14: =BC14/BB14-1 -> -1
D15: ='Receita-Despesa'!D18 -> 4.1.1.7. linha livre | F15: ='Receita-Despesa'!G18 -> 0 | H15: =G15-F15 -> 0 | I15: =G15/F15-1 -> #DIV/0! | J15: ='Receita-Despesa'!H18 -> 0 | L15: =K15-J15 -> 0 | M15: =K15/J15-1 -> #DIV/0! | N15: ='Receita-Despesa'!I18 -> 0 | P15: =O15-N15 -> 0 | Q15: =O15/N15-1 -> #DIV/0! | R15: ='Receita-Despesa'!J18 -> 0 | T15: =S15-R15 -> 0 | U15: =S15/R15-1 -> #DIV/0! | V15: ='Receita-Despesa'!K18 -> 0 | X15: =W15-V15 -> 0 | Y15: =W15/V15-1 -> #DIV/0! | Z15: ='Receita-Despesa'!L18 -> 0 | AB15: =AA15-Z15 -> 0 | AC15: =AA15/Z15-1 -> #DIV/0! | AD15: ='Receita-Despesa'!M18 -> 0 | AF15: =AE15-AD15 -> 0 | AG15: =AE15/AD15-1 -> #DIV/0! | AH15: ='Receita-Despesa'!N18 -> 0 | AJ15: =AI15-AH15 -> 0 | AK15: =AI15/AH15-1 -> #DIV/0! | AL15: ='Receita-Despesa'!O18 -> 0 | AN15: =AM15-AL15 -> 0 | AO15: =AM15/AL15-1 -> #DIV/0! | AP15: ='Receita-Despesa'!P18 -> 0 | AR15: =AQ15-AP15 -> 0 | AS15: =AQ15/AP15-1 -> #DIV/0! | AT15: ='Receita-Despesa'!Q18 -> 0 | AV15: =AU15-AT15 -> 0 | AW15: =AU15/AT15-1 -> #DIV/0! | AX15: ='Receita-Despesa'!R18 -> 0 | AZ15: =AY15-AX15 -> 0 | BA15: =AY15/AX15-1 -> #DIV/0! | BB15: =F15+J15+N15+R15+V15+Z15+AD15+AH15+AL15+AP15+AT15+AX15 -> 0 | BC15: =G15+K15+O15+S15+W15+AA15+AE15+AI15+AM15+AQ15+AU15+AY15 -> 0 | BD15: =BC15-BB15 -> 0 | BE15: =BC15/BB15-1 -> #DIV/0!
D16: ='Receita-Despesa'!D19 -> 4.1.1.8. Outras | F16: ='Receita-Despesa'!G19 -> 3026767.7 | H16: =G16-F16 -> -3026767.7 | I16: =G16/F16-1 -> -1 | J16: ='Receita-Despesa'!H19 -> 3026767.7 | L16: =K16-J16 -> -3026767.7 | M16: =K16/J16-1 -> -1 | N16: ='Receita-Despesa'!I19 -> 3026767.7 | P16: =O16-N16 -> -3026767.7 | Q16: =O16/N16-1 -> -1 | R16: ='Receita-Despesa'!J19 -> 3026767.7 | T16: =S16-R16 -> -3026767.7 | U16: =S16/R16-1 -> -1 | V16: ='Receita-Despesa'!K19 -> 3026767.7 | X16: =W16-V16 -> -3026767.7 | Y16: =W16/V16-1 -> -1 | Z16: ='Receita-Despesa'!L19 -> 3026767.7 | AB16: =AA16-Z16 -> -3026767.7 | AC16: =AA16/Z16-1 -> -1 | AD16: ='Receita-Despesa'!M19 -> 3026767.7 | AF16: =AE16-AD16 -> -3026767.7 | AG16: =AE16/AD16-1 -> -1 | AH16: ='Receita-Despesa'!N19 -> 3026767.7 | AJ16: =AI16-AH16 -> -3026767.7 | AK16: =AI16/AH16-1 -> -1 | AL16: ='Receita-Despesa'!O19 -> 3026767.7 | AN16: =AM16-AL16 -> -3026767.7 | AO16: =AM16/AL16-1 -> -1 | AP16: ='Receita-Despesa'!P19 -> 3026767.7 | AR16: =AQ16-AP16 -> -3026767.7 | AS16: =AQ16/AP16-1 -> -1 | AT16: ='Receita-Despesa'!Q19 -> 3026767.7 | AV16: =AU16-AT16 -> -3026767.7 | AW16: =AU16/AT16-1 -> -1 | AX16: ='Receita-Despesa'!R19 -> 3026767.7 | AZ16: =AY16-AX16 -> -3026767.7 | BA16: =AY16/AX16-1 -> -1 | BB16: =F16+J16+N16+R16+V16+Z16+AD16+AH16+AL16+AP16+AT16+AX16 -> 36321213 | BC16: =G16+K16+O16+S16+W16+AA16+AE16+AI16+AM16+AQ16+AU16+AY16 -> 0 | BD16: =BC16-BB16 -> -36321213 | BE16: =BC16/BB16-1 -> -1
D17: ='Receita-Despesa'!D20 -> Sub-Total de Receitas Operacionais. ( 1 ) | F17: =SUM(F9:F16) -> 6053535.5 | G17: =SUM(G9:G16) -> 0 | H17: =G17-F17 -> -6053535.5 | I17: =G17/F17-1 -> -1 | J17: =SUM(J9:J16) -> 3026767.7 | K17: =SUM(K9:K16) -> 0 | L17: =K17-J17 -> -3026767.7 | M17: =K17/J17-1 -> -1 | N17: =SUM(N9:N16) -> 3026767.7 | O17: =SUM(O9:O16) -> 0 | P17: =O17-N17 -> -3026767.7 | Q17: =O17/N17-1 -> -1 | R17: =SUM(R9:R16) -> 3026767.7 | S17: =SUM(S9:S16) -> 0 | T17: =S17-R17 -> -3026767.7 | U17: =S17/R17-1 -> -1 | V17: =SUM(V9:V16) -> 3026767.7 | W17: =SUM(W9:W16) -> 0 | X17: =W17-V17 -> -3026767.7 | Y17: =W17/V17-1 -> -1 | Z17: =SUM(Z9:Z16) -> 3026767.7 | AA17: =SUM(AA9:AA16) -> 0 | AB17: =AA17-Z17 -> -3026767.7 | AC17: =AA17/Z17-1 -> -1 | AD17: =SUM(AD9:AD16) -> 3026767.7 | AE17: =SUM(AE9:AE16) -> 0 | AF17: =AE17-AD17 -> -3026767.7 | AG17: =AE17/AD17-1 -> -1 | AH17: =SUM(AH9:AH16) -> 3026767.7 | AI17: =SUM(AI9:AI16) -> 0 | AJ17: =AI17-AH17 -> -3026767.7 | AK17: =AI17/AH17-1 -> -1 | AL17: =SUM(AL9:AL16) -> 3026767.7 | AM17: =SUM(AM9:AM16) -> 0 | AN17: =AM17-AL17 -> -3026767.7 | AO17: =AM17/AL17-1 -> -1 | AP17: =SUM(AP9:AP16) -> 3026767.7 | AQ17: =SUM(AQ9:AQ16) -> 0 | AR17: =AQ17-AP17 -> -3026767.7 | AS17: =AQ17/AP17-1 -> -1 | AT17: =SUM(AT9:AT16) -> 3026767.7 | AU17: =SUM(AU9:AU16) -> 0 | AV17: =AU17-AT17 -> -3026767.7 | AW17: =AU17/AT17-1 -> -1 | AX17: =SUM(AX9:AX16) -> 3026767.7 | AY17: =SUM(AY9:AY16) -> 0 | AZ17: =AY17-AX17 -> -3026767.7 | BA17: =AY17/AX17-1 -> -1 | BB17: =F17+J17+N17+R17+V17+Z17+AD17+AH17+AL17+AP17+AT17+AX17 -> 39347980 | BC17: =G17+K17+O17+S17+W17+AA17+AE17+AI17+AM17+AQ17+AU17+AY17 -> 0 | BD17: =BC17-BB17 -> -39347980 | BE17: =BC17/BB17-1 -> -1
D18: ='Receita-Despesa'!D21 -> 4.1.1.7. DEDUÇÕES DAS REC. OPERACIONAIS
D19: ='Receita-Despesa'!D22 -> 4.1.1.7.1. Glosas | F19: ='Receita-Despesa'!G22 -> 0 | H19: =G19-F19 -> 0 | I19: =G19/F19-1 -> #DIV/0! | J19: ='Receita-Despesa'!H22 -> 0 | L19: =K19-J19 -> 0 | M19: =K19/J19-1 -> #DIV/0! | N19: ='Receita-Despesa'!I22 -> 0 | P19: =O19-N19 -> 0 | Q19: =O19/N19-1 -> #DIV/0! | R19: ='Receita-Despesa'!J22 -> 0 | T19: =S19-R19 -> 0 | U19: =S19/R19-1 -> #DIV/0! | V19: ='Receita-Despesa'!K22 -> 0 | X19: =W19-V19 -> 0 | Y19: =W19/V19-1 -> #DIV/0! | Z19: ='Receita-Despesa'!L22 -> 0 | AB19: =AA19-Z19 -> 0 | AC19: =AA19/Z19-1 -> #DIV/0! | AD19: ='Receita-Despesa'!M22 -> 0 | AF19: =AE19-AD19 -> 0 | AG19: =AE19/AD19-1 -> #DIV/0! | AH19: ='Receita-Despesa'!N22 -> 0 | AJ19: =AI19-AH19 -> 0 | AK19: =AI19/AH19-1 -> #DIV/0! | AL19: ='Receita-Despesa'!O22 -> 0 | AN19: =AM19-AL19 -> 0 | AO19: =AM19/AL19-1 -> #DIV/0! | AP19: ='Receita-Despesa'!P22 -> 0 | AR19: =AQ19-AP19 -> 0 | AS19: =AQ19/AP19-1 -> #DIV/0! | AT19: ='Receita-Despesa'!Q22 -> 0 | AV19: =AU19-AT19 -> 0 | AW19: =AU19/AT19-1 -> #DIV/0! | AX19: ='Receita-Despesa'!R22 -> 0 | AZ19: =AY19-AX19 -> 0 | BA19: =AY19/AX19-1 -> #DIV/0! | BB19: =F19+J19+N19+R19+V19+Z19+AD19+AH19+AL19+AP19+AT19+AX19 -> 0 | BC19: =G19+K19+O19+S19+W19+AA19+AE19+AI19+AM19+AQ19+AU19+AY19 -> 0 | BD19: =BC19-BB19 -> 0 | BE19: =BC19/BB19-1 -> #DIV/0!
D20: ='Receita-Despesa'!D23 -> 4.1.1.7.2. Descontos concedidos | F20: ='Receita-Despesa'!G23 -> 0 | H20: =G20-F20 -> 0 | I20: =G20/F20-1 -> #DIV/0! | J20: ='Receita-Despesa'!H23 -> 0 | L20: =K20-J20 -> 0 | M20: =K20/J20-1 -> #DIV/0! | N20: ='Receita-Despesa'!I23 -> 0 | P20: =O20-N20 -> 0 | Q20: =O20/N20-1 -> #DIV/0! | R20: ='Receita-Despesa'!J23 -> 0 | T20: =S20-R20 -> 0 | U20: =S20/R20-1 -> #DIV/0! | V20: ='Receita-Despesa'!K23 -> 0 | X20: =W20-V20 -> 0 | Y20: =W20/V20-1 -> #DIV/0! | Z20: ='Receita-Despesa'!L23 -> 0 | AB20: =AA20-Z20 -> 0 | AC20: =AA20/Z20-1 -> #DIV/0! | AD20: ='Receita-Despesa'!M23 -> 0 | AF20: =AE20-AD20 -> 0 | AG20: =AE20/AD20-1 -> #DIV/0! | AH20: ='Receita-Despesa'!N23 -> 0 | AJ20: =AI20-AH20 -> 0 | AK20: =AI20/AH20-1 -> #DIV/0! | AL20: ='Receita-Despesa'!O23 -> 0 | AN20: =AM20-AL20 -> 0 | AO20: =AM20/AL20-1 -> #DIV/0! | AP20: ='Receita-Despesa'!P23 -> 0 | AR20: =AQ20-AP20 -> 0 | AS20: =AQ20/AP20-1 -> #DIV/0! | AT20: ='Receita-Despesa'!Q23 -> 0 | AV20: =AU20-AT20 -> 0 | AW20: =AU20/AT20-1 -> #DIV/0! | AX20: ='Receita-Despesa'!R23 -> 0 | AZ20: =AY20-AX20 -> 0 | BA20: =AY20/AX20-1 -> #DIV/0! | BB20: =F20+J20+N20+R20+V20+Z20+AD20+AH20+AL20+AP20+AT20+AX20 -> 0 | BC20: =G20+K20+O20+S20+W20+AA20+AE20+AI20+AM20+AQ20+AU20+AY20 -> 0 | BD20: =BC20-BB20 -> 0 | BE20: =BC20/BB20-1 -> #DIV/0!
D21: ='Receita-Despesa'!D24 -> 4.1.1.7.3. linha livre | F21: ='Receita-Despesa'!G24 -> 0 | H21: =G21-F21 -> 0 | I21: =G21/F21-1 -> #DIV/0! | J21: ='Receita-Despesa'!H24 -> 0 | L21: =K21-J21 -> 0 | M21: =K21/J21-1 -> #DIV/0! | N21: ='Receita-Despesa'!I24 -> 0 | P21: =O21-N21 -> 0 | Q21: =O21/N21-1 -> #DIV/0! | R21: ='Receita-Despesa'!J24 -> 0 | T21: =S21-R21 -> 0 | U21: =S21/R21-1 -> #DIV/0! | V21: ='Receita-Despesa'!K24 -> 0 | X21: =W21-V21 -> 0 | Y21: =W21/V21-1 -> #DIV/0! | Z21: ='Receita-Despesa'!L24 -> 0 | AB21: =AA21-Z21 -> 0 | AC21: =AA21/Z21-1 -> #DIV/0! | AD21: ='Receita-Despesa'!M24 -> 0 | AF21: =AE21-AD21 -> 0 | AG21: =AE21/AD21-1 -> #DIV/0! | AH21: ='Receita-Despesa'!N24 -> 0 | AJ21: =AI21-AH21 -> 0 | AK21: =AI21/AH21-1 -> #DIV/0! | AL21: ='Receita-Despesa'!O24 -> 0 | AN21: =AM21-AL21 -> 0 | AO21: =AM21/AL21-1 -> #DIV/0! | AP21: ='Receita-Despesa'!P24 -> 0 | AR21: =AQ21-AP21 -> 0 | AS21: =AQ21/AP21-1 -> #DIV/0! | AT21: ='Receita-Despesa'!Q24 -> 0 | AV21: =AU21-AT21 -> 0 | AW21: =AU21/AT21-1 -> #DIV/0! | AX21: ='Receita-Despesa'!R24 -> 0 | AZ21: =AY21-AX21 -> 0 | BA21: =AY21/AX21-1 -> #DIV/0! | BB21: =F21+J21+N21+R21+V21+Z21+AD21+AH21+AL21+AP21+AT21+AX21 -> 0 | BC21: =G21+K21+O21+S21+W21+AA21+AE21+AI21+AM21+AQ21+AU21+AY21 -> 0 | BD21: =BC21-BB21 -> 0 | BE21: =BC21/BB21-1 -> #DIV/0!
D22: ='Receita-Despesa'!D25 -> 4.1.1.7.4. linha livre | F22: ='Receita-Despesa'!G25 -> 0 | H22: =G22-F22 -> 0 | I22: =G22/F22-1 -> #DIV/0! | J22: ='Receita-Despesa'!H25 -> 0 | L22: =K22-J22 -> 0 | M22: =K22/J22-1 -> #DIV/0! | N22: ='Receita-Despesa'!I25 -> 0 | P22: =O22-N22 -> 0 | Q22: =O22/N22-1 -> #DIV/0! | R22: ='Receita-Despesa'!J25 -> 0 | T22: =S22-R22 -> 0 | U22: =S22/R22-1 -> #DIV/0! | V22: ='Receita-Despesa'!K25 -> 0 | X22: =W22-V22 -> 0 | Y22: =W22/V22-1 -> #DIV/0! | Z22: ='Receita-Despesa'!L25 -> 0 | AB22: =AA22-Z22 -> 0 | AC22: =AA22/Z22-1 -> #DIV/0! | AD22: ='Receita-Despesa'!M25 -> 0 | AF22: =AE22-AD22 -> 0 | AG22: =AE22/AD22-1 -> #DIV/0! | AH22: ='Receita-Despesa'!N25 -> 0 | AJ22: =AI22-AH22 -> 0 | AK22: =AI22/AH22-1 -> #DIV/0! | AL22: ='Receita-Despesa'!O25 -> 0 | AN22: =AM22-AL22 -> 0 | AO22: =AM22/AL22-1 -> #DIV/0! | AP22: ='Receita-Despesa'!P25 -> 0 | AR22: =AQ22-AP22 -> 0 | AS22: =AQ22/AP22-1 -> #DIV/0! | AT22: ='Receita-Despesa'!Q25 -> 0 | AV22: =AU22-AT22 -> 0 | AW22: =AU22/AT22-1 -> #DIV/0! | AX22: ='Receita-Despesa'!R25 -> 0 | AZ22: =AY22-AX22 -> 0 | BA22: =AY22/AX22-1 -> #DIV/0! | BB22: =F22+J22+N22+R22+V22+Z22+AD22+AH22+AL22+AP22+AT22+AX22 -> 0 | BC22: =G22+K22+O22+S22+W22+AA22+AE22+AI22+AM22+AQ22+AU22+AY22 -> 0 | BD22: =BC22-BB22 -> 0 | BE22: =BC22/BB22-1 -> #DIV/0!
D23: ='Receita-Despesa'!D26 -> 4.1.1.7.5. linha livre | F23: ='Receita-Despesa'!G26 -> 0 | H23: =G23-F23 -> 0 | I23: =G23/F23-1 -> #DIV/0! | J23: ='Receita-Despesa'!H26 -> 0 | L23: =K23-J23 -> 0 | M23: =K23/J23-1 -> #DIV/0! | N23: ='Receita-Despesa'!I26 -> 0 | P23: =O23-N23 -> 0 | Q23: =O23/N23-1 -> #DIV/0! | R23: ='Receita-Despesa'!J26 -> 0 | T23: =S23-R23 -> 0 | U23: =S23/R23-1 -> #DIV/0! | V23: ='Receita-Despesa'!K26 -> 0 | X23: =W23-V23 -> 0 | Y23: =W23/V23-1 -> #DIV/0! | Z23: ='Receita-Despesa'!L26 -> 0 | AB23: =AA23-Z23 -> 0 | AC23: =AA23/Z23-1 -> #DIV/0! | AD23: ='Receita-Despesa'!M26 -> 0 | AF23: =AE23-AD23 -> 0 | AG23: =AE23/AD23-1 -> #DIV/0! | AH23: ='Receita-Despesa'!N26 -> 0 | AJ23: =AI23-AH23 -> 0 | AK23: =AI23/AH23-1 -> #DIV/0! | AL23: ='Receita-Despesa'!O26 -> 0 | AN23: =AM23-AL23 -> 0 | AO23: =AM23/AL23-1 -> #DIV/0! | AP23: ='Receita-Despesa'!P26 -> 0 | AR23: =AQ23-AP23 -> 0 | AS23: =AQ23/AP23-1 -> #DIV/0! | AT23: ='Receita-Despesa'!Q26 -> 0 | AV23: =AU23-AT23 -> 0 | AW23: =AU23/AT23-1 -> #DIV/0! | AX23: ='Receita-Despesa'!R26 -> 0 | AZ23: =AY23-AX23 -> 0 | BA23: =AY23/AX23-1 -> #DIV/0! | BB23: =F23+J23+N23+R23+V23+Z23+AD23+AH23+AL23+AP23+AT23+AX23 -> 0 | BC23: =G23+K23+O23+S23+W23+AA23+AE23+AI23+AM23+AQ23+AU23+AY23 -> 0 | BD23: =BC23-BB23 -> 0 | BE23: =BC23/BB23-1 -> #DIV/0!
D24: ='Receita-Despesa'!D27 -> Sub-total ( 2 ) | F24: =SUM(F19:F23) -> 0 | G24: =SUM(G19:G23) -> 0 | H24: =G24-F24 -> 0 | I24: =G24/F24-1 -> #DIV/0! | J24: =SUM(J19:J23) -> 0 | K24: =SUM(K19:K23) -> 0 | L24: =K24-J24 -> 0 | M24: =K24/J24-1 -> #DIV/0! | N24: =SUM(N19:N23) -> 0 | O24: =SUM(O19:O23) -> 0 | P24: =O24-N24 -> 0 | Q24: =O24/N24-1 -> #DIV/0! | R24: =SUM(R19:R23) -> 0 | S24: =SUM(S19:S23) -> 0 | T24: =S24-R24 -> 0 | U24: =S24/R24-1 -> #DIV/0! | V24: =SUM(V19:V23) -> 0 | W24: =SUM(W19:W23) -> 0 | X24: =W24-V24 -> 0 | Y24: =W24/V24-1 -> #DIV/0! | Z24: =SUM(Z19:Z23) -> 0 | AA24: =SUM(AA19:AA23) -> 0 | AB24: =AA24-Z24 -> 0 | AC24: =AA24/Z24-1 -> #DIV/0! | AD24: =SUM(AD19:AD23) -> 0 | AE24: =SUM(AE19:AE23) -> 0 | AF24: =AE24-AD24 -> 0 | AG24: =AE24/AD24-1 -> #DIV/0! | AH24: =SUM(AH19:AH23) -> 0 | AI24: =SUM(AI19:AI23) -> 0 | AJ24: =AI24-AH24 -> 0 | AK24: =AI24/AH24-1 -> #DIV/0! | AL24: =SUM(AL19:AL23) -> 0 | AM24: =SUM(AM19:AM23) -> 0 | AN24: =AM24-AL24 -> 0 | AO24: =AM24/AL24-1 -> #DIV/0! | AP24: =SUM(AP19:AP23) -> 0 | AQ24: =SUM(AQ19:AQ23) -> 0 | AR24: =AQ24-AP24 -> 0 | AS24: =AQ24/AP24-1 -> #DIV/0! | AT24: =SUM(AT19:AT23) -> 0 | AU24: =SUM(AU19:AU23) -> 0 | AV24: =AU24-AT24 -> 0 | AW24: =AU24/AT24-1 -> #DIV/0! | AX24: =SUM(AX19:AX23) -> 0 | AY24: =SUM(AY19:AY23) -> 0 | AZ24: =AY24-AX24 -> 0 | BA24: =AY24/AX24-1 -> #DIV/0! | BB24: =F24+J24+N24+R24+V24+Z24+AD24+AH24+AL24+AP24+AT24+AX24 -> 0 | BC24: =G24+K24+O24+S24+W24+AA24+AE24+AI24+AM24+AQ24+AU24+AY24 -> 0 | BD24: =BC24-BB24 -> 0 | BE24: =BC24/BB24-1 -> #DIV/0!
D25: ='Receita-Despesa'!D28 -> Total de Receitas Operacionais ( 1 - 2 ) | F25: =F17-F24 -> 6053535.5 | G25: =G17-G24 -> 0 | H25: =G25-F25 -> -6053535.5 | I25: =G25/F25-1 -> -1 | J25: =J17-J24 -> 3026767.7 | K25: =K17-K24 -> 0 | L25: =K25-J25 -> -3026767.7 | M25: =K25/J25-1 -> -1 | N25: =N17-N24 -> 3026767.7 | O25: =O17-O24 -> 0 | P25: =O25-N25 -> -3026767.7 | Q25: =O25/N25-1 -> -1 | R25: =R17-R24 -> 3026767.7 | S25: =S17-S24 -> 0 | T25: =S25-R25 -> -3026767.7 | U25: =S25/R25-1 -> -1 | V25: =V17-V24 -> 3026767.7 | W25: =W17-W24 -> 0 | X25: =W25-V25 -> -3026767.7 | Y25: =W25/V25-1 -> -1 | Z25: =Z17-Z24 -> 3026767.7 | AA25: =AA17-AA24 -> 0 | AB25: =AA25-Z25 -> -3026767.7 | AC25: =AA25/Z25-1 -> -1 | AD25: =AD17-AD24 -> 3026767.7 | AE25: =AE17-AE24 -> 0 | AF25: =AE25-AD25 -> -3026767.7 | AG25: =AE25/AD25-1 -> -1 | AH25: =AH17-AH24 -> 3026767.7 | AI25: =AI17-AI24 -> 0 | AJ25: =AI25-AH25 -> -3026767.7 | AK25: =AI25/AH25-1 -> -1 | AL25: =AL17-AL24 -> 3026767.7 | AM25: =AM17-AM24 -> 0 | AN25: =AM25-AL25 -> -3026767.7 | AO25: =AM25/AL25-1 -> -1 | AP25: =AP17-AP24 -> 3026767.7 | AQ25: =AQ17-AQ24 -> 0 | AR25: =AQ25-AP25 -> -3026767.7 | AS25: =AQ25/AP25-1 -> -1 | AT25: =AT17-AT24 -> 3026767.7 | AU25: =AU17-AU24 -> 0 | AV25: =AU25-AT25 -> -3026767.7 | AW25: =AU25/AT25-1 -> -1 | AX25: =AX17-AX24 -> 3026767.7 | AY25: =AY17-AY24 -> 0 | AZ25: =AY25-AX25 -> -3026767.7 | BA25: =AY25/AX25-1 -> -1 | BB25: =F25+J25+N25+R25+V25+Z25+AD25+AH25+AL25+AP25+AT25+AX25 -> 39347980 | BC25: =G25+K25+O25+S25+W25+AA25+AE25+AI25+AM25+AQ25+AU25+AY25 -> 0 | BD25: =BC25-BB25 -> -39347980 | BE25: =BC25/BB25-1 -> -1
C26: ='Receita-Despesa'!C29 -> 4.1.2. RECEITAS NÃO OPERACIONAIS
D27: ='Receita-Despesa'!D30 -> 4.1.2.1. Aluguéis | F27: ='Receita-Despesa'!G30 -> 0 | H27: =G27-F27 -> 0 | I27: =G27/F27-1 -> #DIV/0! | J27: ='Receita-Despesa'!H30 -> 0 | L27: =K27-J27 -> 0 | M27: =K27/J27-1 -> #DIV/0! | N27: ='Receita-Despesa'!I30 -> 0 | P27: =O27-N27 -> 0 | Q27: =O27/N27-1 -> #DIV/0! | R27: ='Receita-Despesa'!J30 -> 0 | T27: =S27-R27 -> 0 | U27: =S27/R27-1 -> #DIV/0! | V27: ='Receita-Despesa'!K30 -> 0 | X27: =W27-V27 -> 0 | Y27: =W27/V27-1 -> #DIV/0! | Z27: ='Receita-Despesa'!L30 -> 0 | AB27: =AA27-Z27 -> 0 | AC27: =AA27/Z27-1 -> #DIV/0! | AD27: ='Receita-Despesa'!M30 -> 0 | AF27: =AE27-AD27 -> 0 | AG27: =AE27/AD27-1 -> #DIV/0! | AH27: ='Receita-Despesa'!N30 -> 0 | AJ27: =AI27-AH27 -> 0 | AK27: =AI27/AH27-1 -> #DIV/0! | AL27: ='Receita-Despesa'!O30 -> 0 | AN27: =AM27-AL27 -> 0 | AO27: =AM27/AL27-1 -> #DIV/0! | AP27: ='Receita-Despesa'!P30 -> 0 | AR27: =AQ27-AP27 -> 0 | AS27: =AQ27/AP27-1 -> #DIV/0! | AT27: ='Receita-Despesa'!Q30 -> 0 | AV27: =AU27-AT27 -> 0 | AW27: =AU27/AT27-1 -> #DIV/0! | AX27: ='Receita-Despesa'!R30 -> 0 | AZ27: =AY27-AX27 -> 0 | BA27: =AY27/AX27-1 -> #DIV/0! | BB27: =F27+J27+N27+R27+V27+Z27+AD27+AH27+AL27+AP27+AT27+AX27 -> 0 | BC27: =G27+K27+O27+S27+W27+AA27+AE27+AI27+AM27+AQ27+AU27+AY27 -> 0 | BD27: =BC27-BB27 -> 0 | BE27: =BC27/BB27-1 -> #DIV/0!
D28: ='Receita-Despesa'!D31 -> 4.1.2.2. Subvenções e Doações | F28: ='Receita-Despesa'!G31 -> 0 | H28: =G28-F28 -> 0 | I28: =G28/F28-1 -> #DIV/0! | J28: ='Receita-Despesa'!H31 -> 0 | L28: =K28-J28 -> 0 | M28: =K28/J28-1 -> #DIV/0! | N28: ='Receita-Despesa'!I31 -> 0 | P28: =O28-N28 -> 0 | Q28: =O28/N28-1 -> #DIV/0! | R28: ='Receita-Despesa'!J31 -> 0 | T28: =S28-R28 -> 0 | U28: =S28/R28-1 -> #DIV/0! | V28: ='Receita-Despesa'!K31 -> 0 | X28: =W28-V28 -> 0 | Y28: =W28/V28-1 -> #DIV/0! | Z28: ='Receita-Despesa'!L31 -> 0 | AB28: =AA28-Z28 -> 0 | AC28: =AA28/Z28-1 -> #DIV/0! | AD28: ='Receita-Despesa'!M31 -> 0 | AF28: =AE28-AD28 -> 0 | AG28: =AE28/AD28-1 -> #DIV/0! | AH28: ='Receita-Despesa'!N31 -> 0 | AJ28: =AI28-AH28 -> 0 | AK28: =AI28/AH28-1 -> #DIV/0! | AL28: ='Receita-Despesa'!O31 -> 0 | AN28: =AM28-AL28 -> 0 | AO28: =AM28/AL28-1 -> #DIV/0! | AP28: ='Receita-Despesa'!P31 -> 0 | AR28: =AQ28-AP28 -> 0 | AS28: =AQ28/AP28-1 -> #DIV/0! | AT28: ='Receita-Despesa'!Q31 -> 0 | AV28: =AU28-AT28 -> 0 | AW28: =AU28/AT28-1 -> #DIV/0! | AX28: ='Receita-Despesa'!R31 -> 0 | AZ28: =AY28-AX28 -> 0 | BA28: =AY28/AX28-1 -> #DIV/0! | BB28: =F28+J28+N28+R28+V28+Z28+AD28+AH28+AL28+AP28+AT28+AX28 -> 0 | BC28: =G28+K28+O28+S28+W28+AA28+AE28+AI28+AM28+AQ28+AU28+AY28 -> 0 | BD28: =BC28-BB28 -> 0 | BE28: =BC28/BB28-1 -> #DIV/0!
D29: ='Receita-Despesa'!D32 -> 4.1.2.3. Cota Patronal - Provisão ..... (NÃO PREENCHER) | F29: ='Receita-Despesa'!G32 -> 0 | H29: =G29-F29 -> 0 | I29: =G29/F29-1 -> #DIV/0! | J29: ='Receita-Despesa'!H32 -> 0 | L29: =K29-J29 -> 0 | M29: =K29/J29-1 -> #DIV/0! | N29: ='Receita-Despesa'!I32 -> 0 | P29: =O29-N29 -> 0 | Q29: =O29/N29-1 -> #DIV/0! | R29: ='Receita-Despesa'!J32 -> 0 | T29: =S29-R29 -> 0 | U29: =S29/R29-1 -> #DIV/0! | V29: ='Receita-Despesa'!K32 -> 0 | X29: =W29-V29 -> 0 | Y29: =W29/V29-1 -> #DIV/0! | Z29: ='Receita-Despesa'!L32 -> 0 | AB29: =AA29-Z29 -> 0 | AC29: =AA29/Z29-1 -> #DIV/0! | AD29: ='Receita-Despesa'!M32 -> 0 | AF29: =AE29-AD29 -> 0 | AG29: =AE29/AD29-1 -> #DIV/0! | AH29: ='Receita-Despesa'!N32 -> 0 | AJ29: =AI29-AH29 -> 0 | AK29: =AI29/AH29-1 -> #DIV/0! | AL29: ='Receita-Despesa'!O32 -> 0 | AN29: =AM29-AL29 -> 0 | AO29: =AM29/AL29-1 -> #DIV/0! | AP29: ='Receita-Despesa'!P32 -> 0 | AR29: =AQ29-AP29 -> 0 | AS29: =AQ29/AP29-1 -> #DIV/0! | AT29: ='Receita-Despesa'!Q32 -> 0 | AV29: =AU29-AT29 -> 0 | AW29: =AU29/AT29-1 -> #DIV/0! | AX29: ='Receita-Despesa'!R32 -> 0 | AZ29: =AY29-AX29 -> 0 | BA29: =AY29/AX29-1 -> #DIV/0! | BB29: =F29+J29+N29+R29+V29+Z29+AD29+AH29+AL29+AP29+AT29+AX29 -> 0 | BC29: =G29+K29+O29+S29+W29+AA29+AE29+AI29+AM29+AQ29+AU29+AY29 -> 0 | BD29: =BC29-BB29 -> 0 | BE29: =BC29/BB29-1 -> #DIV/0!
D30: ='Receita-Despesa'!D33 -> 4.1.2.4. Financeiras | F30: ='Receita-Despesa'!G33 -> 700 | H30: =G30-F30 -> -700 | I30: =G30/F30-1 -> -1 | J30: ='Receita-Despesa'!H33 -> 700 | L30: =K30-J30 -> -700 | M30: =K30/J30-1 -> -1 | N30: ='Receita-Despesa'!I33 -> 700 | P30: =O30-N30 -> -700 | Q30: =O30/N30-1 -> -1 | R30: ='Receita-Despesa'!J33 -> 700 | T30: =S30-R30 -> -700 | U30: =S30/R30-1 -> -1 | V30: ='Receita-Despesa'!K33 -> 700 | X30: =W30-V30 -> -700 | Y30: =W30/V30-1 -> -1 | Z30: ='Receita-Despesa'!L33 -> 700 | AB30: =AA30-Z30 -> -700 | AC30: =AA30/Z30-1 -> -1 | AD30: ='Receita-Despesa'!M33 -> 700 | AF30: =AE30-AD30 -> -700 | AG30: =AE30/AD30-1 -> -1 | AH30: ='Receita-Despesa'!N33 -> 700 | AJ30: =AI30-AH30 -> -700 | AK30: =AI30/AH30-1 -> -1 | AL30: ='Receita-Despesa'!O33 -> 700 | AN30: =AM30-AL30 -> -700 | AO30: =AM30/AL30-1 -> -1 | AP30: ='Receita-Despesa'!P33 -> 700 | AR30: =AQ30-AP30 -> -700 | AS30: =AQ30/AP30-1 -> -1 | AT30: ='Receita-Despesa'!Q33 -> 700 | AV30: =AU30-AT30 -> -700 | AW30: =AU30/AT30-1 -> -1 | AX30: ='Receita-Despesa'!R33 -> 700 | AZ30: =AY30-AX30 -> -700 | BA30: =AY30/AX30-1 -> -1 | BB30: =F30+J30+N30+R30+V30+Z30+AD30+AH30+AL30+AP30+AT30+AX30 -> 8400 | BC30: =G30+K30+O30+S30+W30+AA30+AE30+AI30+AM30+AQ30+AU30+AY30 -> 0 | BD30: =BC30-BB30 -> -8400 | BE30: =BC30/BB30-1 -> -1
D31: ='Receita-Despesa'!D34 -> 4.1.2.5. Honorários Médicos | F31: ='Receita-Despesa'!G34 -> 0 | H31: =G31-F31 -> 0 | I31: =G31/F31-1 -> #DIV/0! | J31: ='Receita-Despesa'!H34 -> 0 | L31: =K31-J31 -> 0 | M31: =K31/J31-1 -> #DIV/0! | N31: ='Receita-Despesa'!I34 -> 0 | P31: =O31-N31 -> 0 | Q31: =O31/N31-1 -> #DIV/0! | R31: ='Receita-Despesa'!J34 -> 0 | T31: =S31-R31 -> 0 | U31: =S31/R31-1 -> #DIV/0! | V31: ='Receita-Despesa'!K34 -> 0 | X31: =W31-V31 -> 0 | Y31: =W31/V31-1 -> #DIV/0! | Z31: ='Receita-Despesa'!L34 -> 0 | AB31: =AA31-Z31 -> 0 | AC31: =AA31/Z31-1 -> #DIV/0! | AD31: ='Receita-Despesa'!M34 -> 0 | AF31: =AE31-AD31 -> 0 | AG31: =AE31/AD31-1 -> #DIV/0! | AH31: ='Receita-Despesa'!N34 -> 0 | AJ31: =AI31-AH31 -> 0 | AK31: =AI31/AH31-1 -> #DIV/0! | AL31: ='Receita-Despesa'!O34 -> 0 | AN31: =AM31-AL31 -> 0 | AO31: =AM31/AL31-1 -> #DIV/0! | AP31: ='Receita-Despesa'!P34 -> 0 | AR31: =AQ31-AP31 -> 0 | AS31: =AQ31/AP31-1 -> #DIV/0! | AT31: ='Receita-Despesa'!Q34 -> 0 | AV31: =AU31-AT31 -> 0 | AW31: =AU31/AT31-1 -> #DIV/0! | AX31: ='Receita-Despesa'!R34 -> 0 | AZ31: =AY31-AX31 -> 0 | BA31: =AY31/AX31-1 -> #DIV/0! | BB31: =F31+J31+N31+R31+V31+Z31+AD31+AH31+AL31+AP31+AT31+AX31 -> 0 | BC31: =G31+K31+O31+S31+W31+AA31+AE31+AI31+AM31+AQ31+AU31+AY31 -> 0 | BD31: =BC31-BB31 -> 0 | BE31: =BC31/BB31-1 -> #DIV/0!
D32: ='Receita-Despesa'!D35 -> 4.1.2.6. Resultado Plano Próprio Saúde | F32: ='Receita-Despesa'!G35 -> 0 | H32: =G32-F32 -> 0 | I32: =G32/F32-1 -> #DIV/0! | J32: ='Receita-Despesa'!H35 -> 0 | L32: =K32-J32 -> 0 | M32: =K32/J32-1 -> #DIV/0! | N32: ='Receita-Despesa'!I35 -> 0 | P32: =O32-N32 -> 0 | Q32: =O32/N32-1 -> #DIV/0! | R32: ='Receita-Despesa'!J35 -> 0 | T32: =S32-R32 -> 0 | U32: =S32/R32-1 -> #DIV/0! | V32: ='Receita-Despesa'!K35 -> 0 | X32: =W32-V32 -> 0 | Y32: =W32/V32-1 -> #DIV/0! | Z32: ='Receita-Despesa'!L35 -> 0 | AB32: =AA32-Z32 -> 0 | AC32: =AA32/Z32-1 -> #DIV/0! | AD32: ='Receita-Despesa'!M35 -> 0 | AF32: =AE32-AD32 -> 0 | AG32: =AE32/AD32-1 -> #DIV/0! | AH32: ='Receita-Despesa'!N35 -> 0 | AJ32: =AI32-AH32 -> 0 | AK32: =AI32/AH32-1 -> #DIV/0! | AL32: ='Receita-Despesa'!O35 -> 0 | AN32: =AM32-AL32 -> 0 | AO32: =AM32/AL32-1 -> #DIV/0! | AP32: ='Receita-Despesa'!P35 -> 0 | AR32: =AQ32-AP32 -> 0 | AS32: =AQ32/AP32-1 -> #DIV/0! | AT32: ='Receita-Despesa'!Q35 -> 0 | AV32: =AU32-AT32 -> 0 | AW32: =AU32/AT32-1 -> #DIV/0! | AX32: ='Receita-Despesa'!R35 -> 0 | AZ32: =AY32-AX32 -> 0 | BA32: =AY32/AX32-1 -> #DIV/0! | BB32: =F32+J32+N32+R32+V32+Z32+AD32+AH32+AL32+AP32+AT32+AX32 -> 0 | BC32: =G32+K32+O32+S32+W32+AA32+AE32+AI32+AM32+AQ32+AU32+AY32 -> 0 | BD32: =BC32-BB32 -> 0 | BE32: =BC32/BB32-1 -> #DIV/0!
D33: ='Receita-Despesa'!D36 -> 4.1.2.7. linha livre | F33: ='Receita-Despesa'!G36 -> 0 | H33: =G33-F33 -> 0 | I33: =G33/F33-1 -> #DIV/0! | J33: ='Receita-Despesa'!H36 -> 0 | L33: =K33-J33 -> 0 | M33: =K33/J33-1 -> #DIV/0! | N33: ='Receita-Despesa'!I36 -> 0 | P33: =O33-N33 -> 0 | Q33: =O33/N33-1 -> #DIV/0! | R33: ='Receita-Despesa'!J36 -> 0 | T33: =S33-R33 -> 0 | U33: =S33/R33-1 -> #DIV/0! | V33: ='Receita-Despesa'!K36 -> 0 | X33: =W33-V33 -> 0 | Y33: =W33/V33-1 -> #DIV/0! | Z33: ='Receita-Despesa'!L36 -> 0 | AB33: =AA33-Z33 -> 0 | AC33: =AA33/Z33-1 -> #DIV/0! | AD33: ='Receita-Despesa'!M36 -> 0 | AF33: =AE33-AD33 -> 0 | AG33: =AE33/AD33-1 -> #DIV/0! | AH33: ='Receita-Despesa'!N36 -> 0 | AJ33: =AI33-AH33 -> 0 | AK33: =AI33/AH33-1 -> #DIV/0! | AL33: ='Receita-Despesa'!O36 -> 0 | AN33: =AM33-AL33 -> 0 | AO33: =AM33/AL33-1 -> #DIV/0! | AP33: ='Receita-Despesa'!P36 -> 0 | AR33: =AQ33-AP33 -> 0 | AS33: =AQ33/AP33-1 -> #DIV/0! | AT33: ='Receita-Despesa'!Q36 -> 0 | AV33: =AU33-AT33 -> 0 | AW33: =AU33/AT33-1 -> #DIV/0! | AX33: ='Receita-Despesa'!R36 -> 0 | AZ33: =AY33-AX33 -> 0 | BA33: =AY33/AX33-1 -> #DIV/0! | BB33: =F33+J33+N33+R33+V33+Z33+AD33+AH33+AL33+AP33+AT33+AX33 -> 0 | BC33: =G33+K33+O33+S33+W33+AA33+AE33+AI33+AM33+AQ33+AU33+AY33 -> 0 | BD33: =BC33-BB33 -> 0 | BE33: =BC33/BB33-1 -> #DIV/0!
D34: ='Receita-Despesa'!D37 -> 4.1.2.8. linha livre | F34: ='Receita-Despesa'!G37 -> 0 | H34: =G34-F34 -> 0 | I34: =G34/F34-1 -> #DIV/0! | J34: ='Receita-Despesa'!H37 -> 0 | L34: =K34-J34 -> 0 | M34: =K34/J34-1 -> #DIV/0! | N34: ='Receita-Despesa'!I37 -> 0 | P34: =O34-N34 -> 0 | Q34: =O34/N34-1 -> #DIV/0! | R34: ='Receita-Despesa'!J37 -> 0 | T34: =S34-R34 -> 0 | U34: =S34/R34-1 -> #DIV/0! | V34: ='Receita-Despesa'!K37 -> 0 | X34: =W34-V34 -> 0 | Y34: =W34/V34-1 -> #DIV/0! | Z34: ='Receita-Despesa'!L37 -> 0 | AB34: =AA34-Z34 -> 0 | AC34: =AA34/Z34-1 -> #DIV/0! | AD34: ='Receita-Despesa'!M37 -> 0 | AF34: =AE34-AD34 -> 0 | AG34: =AE34/AD34-1 -> #DIV/0! | AH34: ='Receita-Despesa'!N37 -> 0 | AJ34: =AI34-AH34 -> 0 | AK34: =AI34/AH34-1 -> #DIV/0! | AL34: ='Receita-Despesa'!O37 -> 0 | AN34: =AM34-AL34 -> 0 | AO34: =AM34/AL34-1 -> #DIV/0! | AP34: ='Receita-Despesa'!P37 -> 0 | AR34: =AQ34-AP34 -> 0 | AS34: =AQ34/AP34-1 -> #DIV/0! | AT34: ='Receita-Despesa'!Q37 -> 0 | AV34: =AU34-AT34 -> 0 | AW34: =AU34/AT34-1 -> #DIV/0! | AX34: ='Receita-Despesa'!R37 -> 0 | AZ34: =AY34-AX34 -> 0 | BA34: =AY34/AX34-1 -> #DIV/0! | BB34: =F34+J34+N34+R34+V34+Z34+AD34+AH34+AL34+AP34+AT34+AX34 -> 0 | BC34: =G34+K34+O34+S34+W34+AA34+AE34+AI34+AM34+AQ34+AU34+AY34 -> 0 | BD34: =BC34-BB34 -> 0 | BE34: =BC34/BB34-1 -> #DIV/0!
D35: ='Receita-Despesa'!D38 -> 4.1.2.9. Outras | F35: ='Receita-Despesa'!G38 -> 250000 | H35: =G35-F35 -> -250000 | I35: =G35/F35-1 -> -1 | J35: ='Receita-Despesa'!H38 -> 250000 | L35: =K35-J35 -> -250000 | M35: =K35/J35-1 -> -1 | N35: ='Receita-Despesa'!I38 -> 250000 | P35: =O35-N35 -> -250000 | Q35: =O35/N35-1 -> -1 | R35: ='Receita-Despesa'!J38 -> 250000 | T35: =S35-R35 -> -250000 | U35: =S35/R35-1 -> -1 | V35: ='Receita-Despesa'!K38 -> 250000 | X35: =W35-V35 -> -250000 | Y35: =W35/V35-1 -> -1 | Z35: ='Receita-Despesa'!L38 -> 250000 | AB35: =AA35-Z35 -> -250000 | AC35: =AA35/Z35-1 -> -1 | AD35: ='Receita-Despesa'!M38 -> 250000 | AF35: =AE35-AD35 -> -250000 | AG35: =AE35/AD35-1 -> -1 | AH35: ='Receita-Despesa'!N38 -> 250000 | AJ35: =AI35-AH35 -> -250000 | AK35: =AI35/AH35-1 -> -1 | AL35: ='Receita-Despesa'!O38 -> 250000 | AN35: =AM35-AL35 -> -250000 | AO35: =AM35/AL35-1 -> -1 | AP35: ='Receita-Despesa'!P38 -> 250000 | AR35: =AQ35-AP35 -> -250000 | AS35: =AQ35/AP35-1 -> -1 | AT35: ='Receita-Despesa'!Q38 -> 250000 | AV35: =AU35-AT35 -> -250000 | AW35: =AU35/AT35-1 -> -1 | AX35: ='Receita-Despesa'!R38 -> 250000 | AZ35: =AY35-AX35 -> -250000 | BA35: =AY35/AX35-1 -> -1 | BB35: =F35+J35+N35+R35+V35+Z35+AD35+AH35+AL35+AP35+AT35+AX35 -> 3000000 | BC35: =G35+K35+O35+S35+W35+AA35+AE35+AI35+AM35+AQ35+AU35+AY35 -> 0 | BD35: =BC35-BB35 -> -3000000 | BE35: =BC35/BB35-1 -> -1
